BEGIN:VCALENDAR
VERSION:2.0
PRODID:-//Narkolepsie-Netzwerk e.V. - ECPv6.15.18//NONSGML v1.0//EN
CALSCALE:GREGORIAN
METHOD:PUBLISH
X-ORIGINAL-URL:https://narkolepsie-netzwerk.de
X-WR-CALDESC:Veranstaltungen für Narkolepsie-Netzwerk e.V.
REFRESH-INTERVAL;VALUE=DURATION:PT1H
X-Robots-Tag:noindex
X-PUBLISHED-TTL:PT1H
BEGIN:VTIMEZONE
TZID:Europe/Berlin
BEGIN:DAYLIGHT
TZOFFSETFROM:+0100
TZOFFSETTO:+0200
TZNAME:CEST
DTSTART:20210328T010000
END:DAYLIGHT
BEGIN:STANDARD
TZOFFSETFROM:+0200
TZOFFSETTO:+0100
TZNAME:CET
DTSTART:20211031T010000
END:STANDARD
BEGIN:DAYLIGHT
TZOFFSETFROM:+0100
TZOFFSETTO:+0200
TZNAME:CEST
DTSTART:20220327T010000
END:DAYLIGHT
BEGIN:STANDARD
TZOFFSETFROM:+0200
TZOFFSETTO:+0100
TZNAME:CET
DTSTART:20221030T010000
END:STANDARD
BEGIN:DAYLIGHT
TZOFFSETFROM:+0100
TZOFFSETTO:+0200
TZNAME:CEST
DTSTART:20230326T010000
END:DAYLIGHT
BEGIN:STANDARD
TZOFFSETFROM:+0200
TZOFFSETTO:+0100
TZNAME:CET
DTSTART:20231029T010000
END:STANDARD
END:VTIMEZONE
BEGIN:VEVENT
DTSTART;TZID=Europe/Berlin:20220910T103000
DTEND;TZID=Europe/Berlin:20220910T160000
DTSTAMP:20260420T052148
CREATED:20220709T123202Z
LAST-MODIFIED:20220905T092117Z
UID:10000324-1662805800-1662825600@narkolepsie-netzwerk.de
SUMMARY:Narkolepsie-Tag MITTE in Marburg
DESCRIPTION:Wir weiten unsere Informationsveranstaltungen nun auch auf andere Regionen Deutschlands aus. \n\n\n\nLange waren wir nicht in der Landesmitte präsent. Wir konnten glücklicherweise Prof. Geert Mayer gewinnen\, in der Nähe seiner alten Wirkungsstätte in Marburg mit uns einen Narkolepsie-Tag zu organisieren. \n\n\n\nNatürlich planen wir Fachvorträge rund um die Narkolepsie und bieten genug Gelegenheiten zum persönlichen Austausch. \n\n\n\nFür Snacks und Getränke ist gesorgt. Wir möchten zwischen zwei Blöcken von jeweils maximal zwei Stunden auch eine längere gemeinsame Mittagspause anbieten\, um Zeit für Gespräche und das Kennenlernen zu bieten.  \n\n\n\n \n\n\n\n \n\n\n\nProgramm (unter Vorbehalt):\n\n\n\n\nProf.Dr. Geert Mayer (ehem. Chefarzt der Hephata-Klinik\, Schwalmstadt):Aktuelles aus der Narkolepsie \n\n\n\nCatrin Schöne (Neuropsychologin am Hephata Diakoniezentrum):Neuropsychologische Coping-Mechanismen \n\n\n\nPsychiatrische Komorbitäten bei Narkolepsie \n\n\n\nDipl.-Psych. Werner Cassel (Universitätsklinikum Gießn und Marburg GmbH)Internistische Komorbitäten bei Narkolepsie \n\n\n\nN.N. \n\n\n\nPersönliches Budget zur Unterstützung bei Narkolepsie \n\n\n\n \n\n\n\n \n\n\n\n \n\n\n\n\nHinweise:\n\n\n\nWir bitten um Anmeldung per E-Mail an NT-Mitte-22@narkolepsie-netzwerk.de (mit Klick auf die Adresse wird bereits eine vorgefertigte Mail geöffnet!) mit Angabe der Teilnehmerzahl zu senden.  \n\n\n\n\nVeranstalter\n\n\n\n\n\n\n\nVeranstaltungsort\n\n\n\n\n\nSchlafmedizinisches Zentrum \n\n\n\nUniversitätsklinikum Marburg \n\n\n\nBaldingerstraße\,  \n\n\n\n35039 Marburg
URL:https://narkolepsie-netzwerk.de/termin/nt-mitte-22/
LOCATION:Universitätsklinikum\, Baldingerstraße\, Marburg\, Gießen\, 35043\, Germany
CATEGORIES:Gruppentreffen,Informationsveranstaltung,Konferenz/Tagung,überregional
ATTACH;FMTTYPE=image/jpeg:https://narkolepsie-netzwerk.de/wp-content/uploads/2022/07/nt-mitte-22_flyer.jpg
GEO:50.8161402;8.8069707
X-APPLE-STRUCTURED-LOCATION;VALUE=URI;X-ADDRESS=Universitätsklinikum Baldingerstraße Marburg Gießen 35043 Germany;X-APPLE-RADIUS=500;X-TITLE=Baldingerstraße:geo:8.8069707,50.8161402
END:VEVENT
END:VCALENDAR