BEGIN:VCALENDAR
VERSION:2.0
PRODID:-//Narkolepsie-Netzwerk e.V. - ECPv6.15.18//NONSGML v1.0//EN
CALSCALE:GREGORIAN
METHOD:PUBLISH
X-WR-CALNAME:Narkolepsie-Netzwerk e.V.
X-ORIGINAL-URL:https://narkolepsie-netzwerk.de
X-WR-CALDESC:Veranstaltungen für Narkolepsie-Netzwerk e.V.
REFRESH-INTERVAL;VALUE=DURATION:PT1H
X-Robots-Tag:noindex
X-PUBLISHED-TTL:PT1H
BEGIN:VTIMEZONE
TZID:Europe/Berlin
BEGIN:DAYLIGHT
TZOFFSETFROM:+0100
TZOFFSETTO:+0200
TZNAME:CEST
DTSTART:20220327T010000
END:DAYLIGHT
BEGIN:STANDARD
TZOFFSETFROM:+0200
TZOFFSETTO:+0100
TZNAME:CET
DTSTART:20221030T010000
END:STANDARD
BEGIN:DAYLIGHT
TZOFFSETFROM:+0100
TZOFFSETTO:+0200
TZNAME:CEST
DTSTART:20230326T010000
END:DAYLIGHT
BEGIN:STANDARD
TZOFFSETFROM:+0200
TZOFFSETTO:+0100
TZNAME:CET
DTSTART:20231029T010000
END:STANDARD
BEGIN:DAYLIGHT
TZOFFSETFROM:+0100
TZOFFSETTO:+0200
TZNAME:CEST
DTSTART:20240331T010000
END:DAYLIGHT
BEGIN:STANDARD
TZOFFSETFROM:+0200
TZOFFSETTO:+0100
TZNAME:CET
DTSTART:20241027T010000
END:STANDARD
BEGIN:DAYLIGHT
TZOFFSETFROM:+0100
TZOFFSETTO:+0200
TZNAME:CEST
DTSTART:20250330T010000
END:DAYLIGHT
BEGIN:STANDARD
TZOFFSETFROM:+0200
TZOFFSETTO:+0100
TZNAME:CET
DTSTART:20251026T010000
END:STANDARD
END:VTIMEZONE
BEGIN:VEVENT
DTSTART;TZID=Europe/Berlin:20241229T140000
DTEND;TZID=Europe/Berlin:20241229T150000
DTSTAMP:20260420T104827
CREATED:20231118T082930Z
LAST-MODIFIED:20231118T082934Z
UID:10000487-1735480800-1735484400@narkolepsie-netzwerk.de
SUMMARY:NaNe Angehörigen Stammtisch
DESCRIPTION:Als Angehörige von Narkolepsie erkrankten Menschen möchten wir uns hier austauschen\, da auch wir unsere Herausforderungen haben. \n\n\n\nWir sind ein lockererer Stammtisch ohne Moderation und treffen uns in der Regel über die Videokonferenz Plattform Jitsi Meet. Es kann aber auch mal vorkommen\, dass wir unser Treffen im sommer in den Biergarten zu verlegen.Die Organisation findet über eine WhatsApp Gruppe statt. \n\n\n\nDer Stammtisch ist überregional offen für alle Angehörigen. Sprache beim Treffen ist Deutsch. \n\n\n\nDer Link zum Meeting wird nach Anmeldung mitgeteilt. Ebenso auf Wunsch die Aufnahme in unsere WhatsApp Gruppe. \n\n\n\n\nVeranstalter\n\n\n\n\n\n\n\nVeranstaltungsort
URL:https://narkolepsie-netzwerk.de/termin/nane-angehorigen-stammtisch-24-12/
LOCATION:Jitsi Meet
CATEGORIES:Gruppentreffen,überregional
ORGANIZER;CN="Regionalgruppe W%C3%BCrttemberg":MAILTO:wuerttemberg@narkolepsie-netzwerk.de
END:VEVENT
BEGIN:VEVENT
DTSTART;TZID=Europe/Berlin:20241124T140000
DTEND;TZID=Europe/Berlin:20241124T150000
DTSTAMP:20260420T104827
CREATED:20231118T082857Z
LAST-MODIFIED:20231118T082901Z
UID:10000486-1732456800-1732460400@narkolepsie-netzwerk.de
SUMMARY:NaNe Angehörigen Stammtisch
DESCRIPTION:Als Angehörige von Narkolepsie erkrankten Menschen möchten wir uns hier austauschen\, da auch wir unsere Herausforderungen haben. \n\n\n\nWir sind ein lockererer Stammtisch ohne Moderation und treffen uns in der Regel über die Videokonferenz Plattform Jitsi Meet. Es kann aber auch mal vorkommen\, dass wir unser Treffen im sommer in den Biergarten zu verlegen.Die Organisation findet über eine WhatsApp Gruppe statt. \n\n\n\nDer Stammtisch ist überregional offen für alle Angehörigen. Sprache beim Treffen ist Deutsch. \n\n\n\nDer Link zum Meeting wird nach Anmeldung mitgeteilt. Ebenso auf Wunsch die Aufnahme in unsere WhatsApp Gruppe. \n\n\n\n\nVeranstalter\n\n\n\n\n\n\n\nVeranstaltungsort
URL:https://narkolepsie-netzwerk.de/termin/nane-angehorigen-stammtisch-24-11/
LOCATION:Jitsi Meet
CATEGORIES:Gruppentreffen,überregional
ORGANIZER;CN="Regionalgruppe W%C3%BCrttemberg":MAILTO:wuerttemberg@narkolepsie-netzwerk.de
END:VEVENT
BEGIN:VEVENT
DTSTART;TZID=Europe/Berlin:20241027T140000
DTEND;TZID=Europe/Berlin:20241027T150000
DTSTAMP:20260420T104827
CREATED:20231118T082810Z
LAST-MODIFIED:20231118T082814Z
UID:10000485-1730037600-1730041200@narkolepsie-netzwerk.de
SUMMARY:NaNe Angehörigen Stammtisch
DESCRIPTION:Als Angehörige von Narkolepsie erkrankten Menschen möchten wir uns hier austauschen\, da auch wir unsere Herausforderungen haben. \n\n\n\nWir sind ein lockererer Stammtisch ohne Moderation und treffen uns in der Regel über die Videokonferenz Plattform Jitsi Meet. Es kann aber auch mal vorkommen\, dass wir unser Treffen im sommer in den Biergarten zu verlegen.Die Organisation findet über eine WhatsApp Gruppe statt. \n\n\n\nDer Stammtisch ist überregional offen für alle Angehörigen. Sprache beim Treffen ist Deutsch. \n\n\n\nDer Link zum Meeting wird nach Anmeldung mitgeteilt. Ebenso auf Wunsch die Aufnahme in unsere WhatsApp Gruppe. \n\n\n\n\nVeranstalter\n\n\n\n\n\n\n\nVeranstaltungsort
URL:https://narkolepsie-netzwerk.de/termin/nane-angehorigen-stammtisch-24-10/
LOCATION:Jitsi Meet
CATEGORIES:Gruppentreffen,überregional
ORGANIZER;CN="Regionalgruppe W%C3%BCrttemberg":MAILTO:wuerttemberg@narkolepsie-netzwerk.de
END:VEVENT
BEGIN:VEVENT
DTSTART;TZID=Europe/Berlin:20240825T140000
DTEND;TZID=Europe/Berlin:20240825T150000
DTSTAMP:20260420T104827
CREATED:20231118T082701Z
LAST-MODIFIED:20231118T082705Z
UID:10000483-1724594400-1724598000@narkolepsie-netzwerk.de
SUMMARY:NaNe Angehörigen Stammtisch
DESCRIPTION:Als Angehörige von Narkolepsie erkrankten Menschen möchten wir uns hier austauschen\, da auch wir unsere Herausforderungen haben. \n\n\n\nWir sind ein lockererer Stammtisch ohne Moderation und treffen uns in der Regel über die Videokonferenz Plattform Jitsi Meet. Es kann aber auch mal vorkommen\, dass wir unser Treffen im sommer in den Biergarten zu verlegen.Die Organisation findet über eine WhatsApp Gruppe statt. \n\n\n\nDer Stammtisch ist überregional offen für alle Angehörigen. Sprache beim Treffen ist Deutsch. \n\n\n\nDer Link zum Meeting wird nach Anmeldung mitgeteilt. Ebenso auf Wunsch die Aufnahme in unsere WhatsApp Gruppe. \n\n\n\n\nVeranstalter\n\n\n\n\n\n\n\nVeranstaltungsort
URL:https://narkolepsie-netzwerk.de/termin/nane-angehorigen-stammtisch-24-08/
LOCATION:Jitsi Meet
CATEGORIES:Gruppentreffen,überregional
ORGANIZER;CN="Regionalgruppe W%C3%BCrttemberg":MAILTO:wuerttemberg@narkolepsie-netzwerk.de
END:VEVENT
BEGIN:VEVENT
DTSTART;TZID=Europe/Berlin:20240630T140000
DTEND;TZID=Europe/Berlin:20240630T150000
DTSTAMP:20260420T104827
CREATED:20231118T082540Z
LAST-MODIFIED:20231118T082544Z
UID:10000481-1719756000-1719759600@narkolepsie-netzwerk.de
SUMMARY:NaNe Angehörigen Stammtisch
DESCRIPTION:Als Angehörige von Narkolepsie erkrankten Menschen möchten wir uns hier austauschen\, da auch wir unsere Herausforderungen haben. \n\n\n\nWir sind ein lockererer Stammtisch ohne Moderation und treffen uns in der Regel über die Videokonferenz Plattform Jitsi Meet. Es kann aber auch mal vorkommen\, dass wir unser Treffen im sommer in den Biergarten zu verlegen.Die Organisation findet über eine WhatsApp Gruppe statt. \n\n\n\nDer Stammtisch ist überregional offen für alle Angehörigen. Sprache beim Treffen ist Deutsch. \n\n\n\nDer Link zum Meeting wird nach Anmeldung mitgeteilt. Ebenso auf Wunsch die Aufnahme in unsere WhatsApp Gruppe. \n\n\n\n\nVeranstalter\n\n\n\n\n\n\n\nVeranstaltungsort
URL:https://narkolepsie-netzwerk.de/termin/nane-angehorigen-stammtisch-24-06/
LOCATION:Jitsi Meet
CATEGORIES:Gruppentreffen,überregional
ORGANIZER;CN="Regionalgruppe W%C3%BCrttemberg":MAILTO:wuerttemberg@narkolepsie-netzwerk.de
END:VEVENT
BEGIN:VEVENT
DTSTART;TZID=Europe/Berlin:20240526T140000
DTEND;TZID=Europe/Berlin:20240526T150000
DTSTAMP:20260420T104827
CREATED:20231118T082441Z
LAST-MODIFIED:20231118T082445Z
UID:10000480-1716732000-1716735600@narkolepsie-netzwerk.de
SUMMARY:NaNe Angehörigen Stammtisch
DESCRIPTION:Als Angehörige von Narkolepsie erkrankten Menschen möchten wir uns hier austauschen\, da auch wir unsere Herausforderungen haben. \n\n\n\nWir sind ein lockererer Stammtisch ohne Moderation und treffen uns in der Regel über die Videokonferenz Plattform Jitsi Meet. Es kann aber auch mal vorkommen\, dass wir unser Treffen im sommer in den Biergarten zu verlegen.Die Organisation findet über eine WhatsApp Gruppe statt. \n\n\n\nDer Stammtisch ist überregional offen für alle Angehörigen. Sprache beim Treffen ist Deutsch. \n\n\n\nDer Link zum Meeting wird nach Anmeldung mitgeteilt. Ebenso auf Wunsch die Aufnahme in unsere WhatsApp Gruppe. \n\n\n\n\nVeranstalter\n\n\n\n\n\n\n\nVeranstaltungsort
URL:https://narkolepsie-netzwerk.de/termin/nane-angehorigen-stammtisch-24-05/
LOCATION:Jitsi Meet
CATEGORIES:Gruppentreffen,überregional
ORGANIZER;CN="Regionalgruppe W%C3%BCrttemberg":MAILTO:wuerttemberg@narkolepsie-netzwerk.de
END:VEVENT
BEGIN:VEVENT
DTSTART;TZID=Europe/Berlin:20240428T140000
DTEND;TZID=Europe/Berlin:20240428T150000
DTSTAMP:20260420T104827
CREATED:20231118T082342Z
LAST-MODIFIED:20231118T082346Z
UID:10000479-1714312800-1714316400@narkolepsie-netzwerk.de
SUMMARY:NaNe Angehörigen Stammtisch
DESCRIPTION:Als Angehörige von Narkolepsie erkrankten Menschen möchten wir uns hier austauschen\, da auch wir unsere Herausforderungen haben. \n\n\n\nWir sind ein lockererer Stammtisch ohne Moderation und treffen uns in der Regel über die Videokonferenz Plattform Jitsi Meet. Es kann aber auch mal vorkommen\, dass wir unser Treffen im sommer in den Biergarten zu verlegen.Die Organisation findet über eine WhatsApp Gruppe statt. \n\n\n\nDer Stammtisch ist überregional offen für alle Angehörigen. Sprache beim Treffen ist Deutsch. \n\n\n\nDer Link zum Meeting wird nach Anmeldung mitgeteilt. Ebenso auf Wunsch die Aufnahme in unsere WhatsApp Gruppe. \n\n\n\n\nVeranstalter\n\n\n\n\n\n\n\nVeranstaltungsort
URL:https://narkolepsie-netzwerk.de/termin/nane-angehorigen-stammtisch-24-04/
LOCATION:Jitsi Meet
CATEGORIES:Gruppentreffen,überregional
ORGANIZER;CN="Regionalgruppe W%C3%BCrttemberg":MAILTO:wuerttemberg@narkolepsie-netzwerk.de
END:VEVENT
BEGIN:VEVENT
DTSTART;TZID=Europe/Berlin:20240331T140000
DTEND;TZID=Europe/Berlin:20240331T150000
DTSTAMP:20260420T104827
CREATED:20231118T082311Z
LAST-MODIFIED:20231118T082315Z
UID:10000478-1711893600-1711897200@narkolepsie-netzwerk.de
SUMMARY:NaNe Angehörigen Stammtisch
DESCRIPTION:Als Angehörige von Narkolepsie erkrankten Menschen möchten wir uns hier austauschen\, da auch wir unsere Herausforderungen haben. \n\n\n\nWir sind ein lockererer Stammtisch ohne Moderation und treffen uns in der Regel über die Videokonferenz Plattform Jitsi Meet. Es kann aber auch mal vorkommen\, dass wir unser Treffen im sommer in den Biergarten zu verlegen.Die Organisation findet über eine WhatsApp Gruppe statt. \n\n\n\nDer Stammtisch ist überregional offen für alle Angehörigen. Sprache beim Treffen ist Deutsch. \n\n\n\nDer Link zum Meeting wird nach Anmeldung mitgeteilt. Ebenso auf Wunsch die Aufnahme in unsere WhatsApp Gruppe. \n\n\n\n\nVeranstalter\n\n\n\n\n\n\n\nVeranstaltungsort
URL:https://narkolepsie-netzwerk.de/termin/nane-angehorigen-stammtisch-24-03/
LOCATION:Jitsi Meet
CATEGORIES:Gruppentreffen,überregional
ORGANIZER;CN="Regionalgruppe W%C3%BCrttemberg":MAILTO:wuerttemberg@narkolepsie-netzwerk.de
END:VEVENT
BEGIN:VEVENT
DTSTART;TZID=Europe/Berlin:20240225T140000
DTEND;TZID=Europe/Berlin:20240225T150000
DTSTAMP:20260420T104827
CREATED:20231118T081805Z
LAST-MODIFIED:20231118T082233Z
UID:10000477-1708869600-1708873200@narkolepsie-netzwerk.de
SUMMARY:NaNe Angehörigen Stammtisch
DESCRIPTION:Als Angehörige von Narkolepsie erkrankten Menschen möchten wir uns hier austauschen\, da auch wir unsere Herausforderungen haben. \n\n\n\nWir sind ein lockererer Stammtisch ohne Moderation und treffen uns in der Regel über die Videokonferenz Plattform Jitsi Meet. Es kann aber auch mal vorkommen\, dass wir unser Treffen im sommer in den Biergarten zu verlegen.Die Organisation findet über eine WhatsApp Gruppe statt. \n\n\n\nDer Stammtisch ist überregional offen für alle Angehörigen. Sprache beim Treffen ist Deutsch. \n\n\n\nDer Link zum Meeting wird nach Anmeldung mitgeteilt. Ebenso auf Wunsch die Aufnahme in unsere WhatsApp Gruppe. \n\n\n\n\nVeranstalter\n\n\n\n\n\n\n\nVeranstaltungsort
URL:https://narkolepsie-netzwerk.de/termin/nane-angehoerigen-stammtisch-24-02/
LOCATION:Jitsi Meet
CATEGORIES:Gruppentreffen,überregional
ORGANIZER;CN="Regionalgruppe W%C3%BCrttemberg":MAILTO:wuerttemberg@narkolepsie-netzwerk.de
END:VEVENT
BEGIN:VEVENT
DTSTART;TZID=Europe/Berlin:20240128T140000
DTEND;TZID=Europe/Berlin:20240128T150000
DTSTAMP:20260420T104827
CREATED:20231112T130902Z
LAST-MODIFIED:20231118T082214Z
UID:10000418-1706450400-1706454000@narkolepsie-netzwerk.de
SUMMARY:NaNe Angehörigen Stammtisch
DESCRIPTION:Als Angehörige von Narkolepsie erkrankten Menschen möchten wir uns hier austauschen\, da auch wir unsere Herausforderungen haben. \n\n\n\nWir sind ein lockererer Stammtisch ohne Moderation und treffen uns in der Regel über die Videokonferenz Plattform Jitsi Meet. Es kann aber auch mal vorkommen\, dass wir unser Treffen im sommer in den Biergarten zu verlegen.Die Organisation findet über eine WhatsApp Gruppe statt. \n\n\n\nDer Stammtisch ist überregional offen für alle Angehörigen. Sprache beim Treffen ist Deutsch. \n\n\n\nDer Link zum Meeting wird nach Anmeldung mitgeteilt. Ebenso auf Wunsch die Aufnahme in unsere WhatsApp Gruppe. \n\n\n\n\nVeranstalter\n\n\n\n\n\n\n\nVeranstaltungsort
URL:https://narkolepsie-netzwerk.de/termin/nane-angehoerigen-stammtisch-24-01/
LOCATION:Jitsi Meet
CATEGORIES:Gruppentreffen,überregional
ORGANIZER;CN="Regionalgruppe W%C3%BCrttemberg":MAILTO:wuerttemberg@narkolepsie-netzwerk.de
END:VEVENT
BEGIN:VEVENT
DTSTART;TZID=Europe/Berlin:20231112T140000
DTEND;TZID=Europe/Berlin:20231112T160000
DTSTAMP:20260420T104827
CREATED:20221212T074712Z
LAST-MODIFIED:20231025T092343Z
UID:10000352-1699797600-1699804800@narkolepsie-netzwerk.de
SUMMARY:NaNe Angehörigen Stammtisch
DESCRIPTION:Als Angehörige von Narkolepsie erkrankten Menschen möchten wir uns hier austauschen\, da auch wir unsere Herausforderungen haben. \n\n\n\nWir sind ein lockererer Stammtisch ohne Moderation und treffen uns über die Videokonferenz Plattform Jitsi Meet. \n\n\n\nDer Stammtisch ist überregional offen für alle Angehörigen. Sprache beim Treffen ist Deutsch. \n\n\n\nDer Link zum Meeting wird nach Anmeldung mitgeteilt. \n\n\n\n\nVeranstalter\n\n\n\n\n\n\n\nVeranstaltungsort
URL:https://narkolepsie-netzwerk.de/termin/angeh-rg-wuerttemberg-23-11/
LOCATION:Jitsi Meet
CATEGORIES:Gruppentreffen,überregional
ORGANIZER;CN="Regionalgruppe W%C3%BCrttemberg":MAILTO:wuerttemberg@narkolepsie-netzwerk.de
END:VEVENT
END:VCALENDAR