BEGIN:VCALENDAR
VERSION:2.0
PRODID:-//Narkolepsie-Netzwerk e.V. - ECPv6.15.18//NONSGML v1.0//EN
CALSCALE:GREGORIAN
METHOD:PUBLISH
X-ORIGINAL-URL:https://narkolepsie-netzwerk.de
X-WR-CALDESC:Veranstaltungen für Narkolepsie-Netzwerk e.V.
REFRESH-INTERVAL;VALUE=DURATION:PT1H
X-Robots-Tag:noindex
X-PUBLISHED-TTL:PT1H
BEGIN:VTIMEZONE
TZID:Europe/Berlin
BEGIN:DAYLIGHT
TZOFFSETFROM:+0100
TZOFFSETTO:+0200
TZNAME:CEST
DTSTART:20190331T010000
END:DAYLIGHT
BEGIN:STANDARD
TZOFFSETFROM:+0200
TZOFFSETTO:+0100
TZNAME:CET
DTSTART:20191027T010000
END:STANDARD
BEGIN:DAYLIGHT
TZOFFSETFROM:+0100
TZOFFSETTO:+0200
TZNAME:CEST
DTSTART:20200329T010000
END:DAYLIGHT
BEGIN:STANDARD
TZOFFSETFROM:+0200
TZOFFSETTO:+0100
TZNAME:CET
DTSTART:20201025T010000
END:STANDARD
BEGIN:DAYLIGHT
TZOFFSETFROM:+0100
TZOFFSETTO:+0200
TZNAME:CEST
DTSTART:20210328T010000
END:DAYLIGHT
BEGIN:STANDARD
TZOFFSETFROM:+0200
TZOFFSETTO:+0100
TZNAME:CET
DTSTART:20211031T010000
END:STANDARD
BEGIN:DAYLIGHT
TZOFFSETFROM:+0100
TZOFFSETTO:+0200
TZNAME:CEST
DTSTART:20220327T010000
END:DAYLIGHT
BEGIN:STANDARD
TZOFFSETFROM:+0200
TZOFFSETTO:+0100
TZNAME:CET
DTSTART:20221030T010000
END:STANDARD
BEGIN:DAYLIGHT
TZOFFSETFROM:+0100
TZOFFSETTO:+0200
TZNAME:CEST
DTSTART:20230326T010000
END:DAYLIGHT
BEGIN:STANDARD
TZOFFSETFROM:+0200
TZOFFSETTO:+0100
TZNAME:CET
DTSTART:20231029T010000
END:STANDARD
BEGIN:DAYLIGHT
TZOFFSETFROM:+0100
TZOFFSETTO:+0200
TZNAME:CEST
DTSTART:20240331T010000
END:DAYLIGHT
BEGIN:STANDARD
TZOFFSETFROM:+0200
TZOFFSETTO:+0100
TZNAME:CET
DTSTART:20241027T010000
END:STANDARD
END:VTIMEZONE
BEGIN:VEVENT
DTSTART;TZID=Europe/Berlin:20231105T140000
DTEND;TZID=Europe/Berlin:20231105T163000
DTSTAMP:20260420T103808
CREATED:20221130T123802Z
LAST-MODIFIED:20221130T123807Z
UID:10000347-1699192800-1699201800@narkolepsie-netzwerk.de
SUMMARY:Treffen Regionalgruppe Ruhrgebiet
DESCRIPTION:Die Gruppentreffen finden in den Räumlichkeiten des Paritätischen in Hagen statt.  \n\n\n\n=> Bitte klingeln Sie am Eingang! \n\n\n\nVom Hagener Hauptbahnhof ist der Paritätische Hagen in wenigen Gehminuten zu erreichen. Parkmöglichkeiten befinden sich direkt gegenüber vom Paritätischen im Parkhaus  über der Polizeistation. \n\n\n\nUm besser planen zu können\, wünschen wir uns eine Anmeldung per E-Mail oder Telefon. Von Spontanbesuchen bitten wir Abstand zu nehmen. Für unsere Treffen gelten die jeweiligen Bestimmungen der Corona-Schutzverordnung.  \n\n\n\nNäheres zur Gruppe gibt es hier.  \n\n\n\n\nVeranstalter\n\n\n\n\n\n\n\nVeranstaltungsort
URL:https://narkolepsie-netzwerk.de/termin/treffen-regionalgruppe-ruhrgebiet-23-11/
LOCATION:Begegnungsstätte des Paritätischen\, Bahnhofstr. 41\, Hagen\, Deutschland
CATEGORIES:Gruppentreffen,Ruhrgebiet
GEO:51.3609028;7.4637826
X-APPLE-STRUCTURED-LOCATION;VALUE=URI;X-ADDRESS=Begegnungsstätte des Paritätischen Bahnhofstr. 41 Hagen Deutschland;X-APPLE-RADIUS=500;X-TITLE=Bahnhofstr. 41:geo:7.4637826,51.3609028
END:VEVENT
BEGIN:VEVENT
DTSTART;TZID=Europe/Berlin:20230806T140000
DTEND;TZID=Europe/Berlin:20230806T163000
DTSTAMP:20260420T103808
CREATED:20221130T123711Z
LAST-MODIFIED:20221130T123715Z
UID:10000346-1691330400-1691339400@narkolepsie-netzwerk.de
SUMMARY:Treffen Regionalgruppe Ruhrgebiet
DESCRIPTION:Die Gruppentreffen finden in den Räumlichkeiten des Paritätischen in Hagen statt.  \n\n\n\n=> Bitte klingeln Sie am Eingang! \n\n\n\nVom Hagener Hauptbahnhof ist der Paritätische Hagen in wenigen Gehminuten zu erreichen. Parkmöglichkeiten befinden sich direkt gegenüber vom Paritätischen im Parkhaus  über der Polizeistation. \n\n\n\nUm besser planen zu können\, wünschen wir uns eine Anmeldung per E-Mail oder Telefon. Von Spontanbesuchen bitten wir Abstand zu nehmen. Für unsere Treffen gelten die jeweiligen Bestimmungen der Corona-Schutzverordnung.  \n\n\n\nNäheres zur Gruppe gibt es hier.  \n\n\n\n\nVeranstalter\n\n\n\n\n\n\n\nVeranstaltungsort
URL:https://narkolepsie-netzwerk.de/termin/treffen-regionalgruppe-ruhrgebiet-23-08/
LOCATION:Begegnungsstätte des Paritätischen\, Bahnhofstr. 41\, Hagen\, Deutschland
CATEGORIES:Gruppentreffen,Ruhrgebiet
GEO:51.3609028;7.4637826
X-APPLE-STRUCTURED-LOCATION;VALUE=URI;X-ADDRESS=Begegnungsstätte des Paritätischen Bahnhofstr. 41 Hagen Deutschland;X-APPLE-RADIUS=500;X-TITLE=Bahnhofstr. 41:geo:7.4637826,51.3609028
END:VEVENT
BEGIN:VEVENT
DTSTART;TZID=Europe/Berlin:20230513T140000
DTEND;TZID=Europe/Berlin:20230513T163000
DTSTAMP:20260420T103808
CREATED:20230419T184605Z
LAST-MODIFIED:20230419T185524Z
UID:10000385-1683986400-1683995400@narkolepsie-netzwerk.de
SUMMARY:Treffen Regionalgruppe Weser-Ems
DESCRIPTION:Es wäre toll\, wenn Ihr Euch vorher anmelden würdet\, bzgl. Planung ist es dann für uns einfacher. \n\n\n\nIhr könnt natürlich auch einfach so kommen! \n\n\n\nWir freuen uns auf Euch\,Sören und Melanie \n\n\n\n\nVeranstalter\n\n\n\n\n\n\n\nVeranstaltungsort
URL:https://narkolepsie-netzwerk.de/termin/treffen-regionalgruppe-weser-ems-5/
LOCATION:Begegnungsstätte des Paritätischen\, Bahnhofstr. 41\, Hagen\, Deutschland
CATEGORIES:Gruppentreffen,Weser-Ems
ORGANIZER;CN="Regionalgruppe Weser-Ems":MAILTO:weser-ems@narkolepsie-netzwerk.de
GEO:51.3609028;7.4637826
X-APPLE-STRUCTURED-LOCATION;VALUE=URI;X-ADDRESS=Begegnungsstätte des Paritätischen Bahnhofstr. 41 Hagen Deutschland;X-APPLE-RADIUS=500;X-TITLE=Bahnhofstr. 41:geo:7.4637826,51.3609028
END:VEVENT
BEGIN:VEVENT
DTSTART;TZID=Europe/Berlin:20230423T140000
DTEND;TZID=Europe/Berlin:20230423T163000
DTSTAMP:20260420T103808
CREATED:20221130T123628Z
LAST-MODIFIED:20230416T134747Z
UID:10000345-1682258400-1682267400@narkolepsie-netzwerk.de
SUMMARY:Treffen Regionalgruppe Ruhrgebiet
DESCRIPTION:Die Gruppentreffen finden in den Räumlichkeiten des Paritätischen in Hagen statt.  \n\n\n\n=> Bitte klingeln Sie am Eingang! \n\n\n\nVom Hagener Hauptbahnhof ist der Paritätische Hagen in wenigen Gehminuten zu erreichen. Parkmöglichkeiten befinden sich direkt gegenüber vom Paritätischen im Parkhaus  über der Polizeistation. \n\n\n\nUm besser planen zu können\, wünschen wir uns eine Anmeldung per E-Mail oder Telefon. Von Spontanbesuchen bitten wir Abstand zu nehmen.  \n\n\n\nNäheres zur Gruppe gibt es hier.  \n\n\n\n\nVeranstalter\n\n\n\n\n\n\n\nVeranstaltungsort\n\n\nDer Ordner existiert nicht. Bitte erstellen.
URL:https://narkolepsie-netzwerk.de/termin/treffen-regionalgruppe-ruhrgebiet-23-04/
LOCATION:Begegnungsstätte des Paritätischen\, Bahnhofstr. 41\, Hagen\, Deutschland
CATEGORIES:Gruppentreffen,Ruhrgebiet
GEO:51.3609028;7.4637826
X-APPLE-STRUCTURED-LOCATION;VALUE=URI;X-ADDRESS=Begegnungsstätte des Paritätischen Bahnhofstr. 41 Hagen Deutschland;X-APPLE-RADIUS=500;X-TITLE=Bahnhofstr. 41:geo:7.4637826,51.3609028
END:VEVENT
BEGIN:VEVENT
DTSTART;TZID=Europe/Berlin:20230205T140000
DTEND;TZID=Europe/Berlin:20230205T163000
DTSTAMP:20260420T103808
CREATED:20221130T123542Z
LAST-MODIFIED:20221130T123546Z
UID:10000344-1675605600-1675614600@narkolepsie-netzwerk.de
SUMMARY:Treffen Regionalgruppe Ruhrgebiet
DESCRIPTION:Die Gruppentreffen finden in den Räumlichkeiten des Paritätischen in Hagen statt.  \n\n\n\n=> Bitte klingeln Sie am Eingang! \n\n\n\nVom Hagener Hauptbahnhof ist der Paritätische Hagen in wenigen Gehminuten zu erreichen. Parkmöglichkeiten befinden sich direkt gegenüber vom Paritätischen im Parkhaus  über der Polizeistation. \n\n\n\nUm besser planen zu können\, wünschen wir uns eine Anmeldung per E-Mail oder Telefon. Von Spontanbesuchen bitten wir Abstand zu nehmen. Für unsere Treffen gelten die jeweiligen Bestimmungen der Corona-Schutzverordnung.  \n\n\n\nNäheres zur Gruppe gibt es hier.  \n\n\n\n\nVeranstalter\n\n\n\n\n\n\n\nVeranstaltungsort
URL:https://narkolepsie-netzwerk.de/termin/treffen-regionalgruppe-ruhrgebiet-23-02/
LOCATION:Begegnungsstätte des Paritätischen\, Bahnhofstr. 41\, Hagen\, Deutschland
CATEGORIES:Gruppentreffen,Ruhrgebiet
GEO:51.3609028;7.4637826
X-APPLE-STRUCTURED-LOCATION;VALUE=URI;X-ADDRESS=Begegnungsstätte des Paritätischen Bahnhofstr. 41 Hagen Deutschland;X-APPLE-RADIUS=500;X-TITLE=Bahnhofstr. 41:geo:7.4637826,51.3609028
END:VEVENT
BEGIN:VEVENT
DTSTART;TZID=Europe/Berlin:20221106T140000
DTEND;TZID=Europe/Berlin:20221106T163000
DTSTAMP:20260420T103808
CREATED:20220104T165524Z
LAST-MODIFIED:20220505T090002Z
UID:10000294-1667743200-1667752200@narkolepsie-netzwerk.de
SUMMARY:Treffen Regionalgruppe Ruhrgebiet
DESCRIPTION:Die Gruppentreffen finden in den Räumlichkeiten des Paritätischen in Hagen statt.  \n\n\n\n=> Bitte klingeln Sie am Eingang! \n\n\n\nVom Hagener Hauptbahnhof ist der Paritätische Hagen in wenigen Gehminuten zu erreichen. Parkmöglichkeiten befinden sich direkt gegenüber vom Paritätischen im Parkhaus  über der Polizeistation. \n\n\n\nUm besser planen zu können\, wünschen wir uns eine Anmeldung per E-Mail oder Telefon. Von Spontanbesuchen bitten wir Abstand zu nehmen. Für unsere Treffen gelten die jeweiligen Bestimmungen der Corona-Schutzverordnung.  \n\n\n\nNäheres zur Gruppe gibt es hier.  \n\n\n\n\nVeranstalter\n\n\n\n\n\n\n\nVeranstaltungsort
URL:https://narkolepsie-netzwerk.de/termin/treffen-regionalgruppe-ruhrgebiet-22-11/
LOCATION:Begegnungsstätte des Paritätischen\, Bahnhofstr. 41\, Hagen\, Deutschland
CATEGORIES:Gruppentreffen,Ruhrgebiet
GEO:51.3609028;7.4637826
X-APPLE-STRUCTURED-LOCATION;VALUE=URI;X-ADDRESS=Begegnungsstätte des Paritätischen Bahnhofstr. 41 Hagen Deutschland;X-APPLE-RADIUS=500;X-TITLE=Bahnhofstr. 41:geo:7.4637826,51.3609028
END:VEVENT
BEGIN:VEVENT
DTSTART;TZID=Europe/Berlin:20220814T140000
DTEND;TZID=Europe/Berlin:20220814T163000
DTSTAMP:20260420T103808
CREATED:20220104T165442Z
LAST-MODIFIED:20220505T090319Z
UID:10000293-1660485600-1660494600@narkolepsie-netzwerk.de
SUMMARY:Treffen Regionalgruppe Ruhrgebiet
DESCRIPTION:Die Gruppentreffen finden in den Räumlichkeiten des Paritätischen in Hagen statt.  \n\n\n\n=> Bitte klingeln Sie am Eingang! \n\n\n\nVom Hagener Hauptbahnhof ist der Paritätische Hagen in wenigen Gehminuten zu erreichen. Parkmöglichkeiten befinden sich direkt gegenüber vom Paritätischen im Parkhaus  über der Polizeistation. \n\n\n\nUm besser planen zu können\, wünschen wir uns eine Anmeldung per E-Mail oder Telefon. Von Spontanbesuchen bitten wir Abstand zu nehmen. Für unsere Treffen gelten die jeweiligen Bestimmungen der Corona-Schutzverordnung.  \n\n\n\nNäheres zur Gruppe gibt es hier.  \n\n\n\n\nVeranstalter\n\n\n\n\n\n\n\nVeranstaltungsort
URL:https://narkolepsie-netzwerk.de/termin/treffen-regionalgruppe-ruhrgebiet-22-08/
LOCATION:Begegnungsstätte des Paritätischen\, Bahnhofstr. 41\, Hagen\, Deutschland
CATEGORIES:Gruppentreffen,Ruhrgebiet
GEO:51.3609028;7.4637826
X-APPLE-STRUCTURED-LOCATION;VALUE=URI;X-ADDRESS=Begegnungsstätte des Paritätischen Bahnhofstr. 41 Hagen Deutschland;X-APPLE-RADIUS=500;X-TITLE=Bahnhofstr. 41:geo:7.4637826,51.3609028
END:VEVENT
BEGIN:VEVENT
DTSTART;TZID=Europe/Berlin:20220522T140000
DTEND;TZID=Europe/Berlin:20220522T163000
DTSTAMP:20260420T103808
CREATED:20220104T165419Z
LAST-MODIFIED:20220504T113441Z
UID:10000292-1653228000-1653237000@narkolepsie-netzwerk.de
SUMMARY:Treffen Regionalgruppe Ruhrgebiet
DESCRIPTION:Die Gruppentreffen finden in den Räumlichkeiten des Paritätischen in Hagen statt.  \n\n\n\n=> Bitte klingeln Sie am Eingang! \n\n\n\nVom Hagener Hauptbahnhof ist der Paritätische Hagen in wenigen Gehminuten zu erreichen. Parkmöglichkeiten befinden sich direkt gegenüber vom Paritätischen im Parkhaus  über der Polizeistation. \n\n\n\nUm besser planen zu können\, wünschen wir uns eine Anmeldung per E-Mail oder Telefon. Von Spontanbesuchen bitten wir Abstand zu nehmen. Für unsere Treffen gelten die jeweiligen Bestimmungen der Corona-Schutzverordnung.  \n\n\n\nNäheres zur Gruppe gibt es hier. \n\n\n\n\nVeranstalter\n\n\n\n\n\n\n\nVeranstaltungsort
URL:https://narkolepsie-netzwerk.de/termin/treffen-regionalgruppe-ruhrgebiet-22-05/
LOCATION:Begegnungsstätte des Paritätischen\, Bahnhofstr. 41\, Hagen\, Deutschland
CATEGORIES:Gruppentreffen,Ruhrgebiet
GEO:51.3609028;7.4637826
X-APPLE-STRUCTURED-LOCATION;VALUE=URI;X-ADDRESS=Begegnungsstätte des Paritätischen Bahnhofstr. 41 Hagen Deutschland;X-APPLE-RADIUS=500;X-TITLE=Bahnhofstr. 41:geo:7.4637826,51.3609028
END:VEVENT
BEGIN:VEVENT
DTSTART;TZID=Europe/Berlin:20220213T140000
DTEND;TZID=Europe/Berlin:20220213T163000
DTSTAMP:20260420T103808
CREATED:20220104T165354Z
LAST-MODIFIED:20220104T175946Z
UID:10000291-1644760800-1644769800@narkolepsie-netzwerk.de
SUMMARY:Treffen Regionalgruppe Ruhrgebiet
DESCRIPTION:=> Bitte klingeln Sie am Eingang! \n\n\n\nVom Hagener Hauptbahnhof ist der Paritätische Hagen in wenigen Gehminuten zu erreichen. Parkmöglichkeiten befinden sich direkt gegenüber vom Paritätischen im Parkhaus der Polizei. \n\n\n\nUm besser planen zu können\, wünschen wir uns eine kurze Anmeldung per E-Mail oder Telefon. \n\n\n\nVeranstalter\n\n\n\n\n\nVeranstaltungsort
URL:https://narkolepsie-netzwerk.de/termin/treffen-regionalgruppe-ruhrgebiet-22-02/
LOCATION:Begegnungsstätte des Paritätischen\, Bahnhofstr. 41\, Hagen\, Deutschland
CATEGORIES:Gruppentreffen,Ruhrgebiet
GEO:51.3609028;7.4637826
X-APPLE-STRUCTURED-LOCATION;VALUE=URI;X-ADDRESS=Begegnungsstätte des Paritätischen Bahnhofstr. 41 Hagen Deutschland;X-APPLE-RADIUS=500;X-TITLE=Bahnhofstr. 41:geo:7.4637826,51.3609028
END:VEVENT
BEGIN:VEVENT
DTSTART;TZID=Europe/Berlin:20211107T140000
DTEND;TZID=Europe/Berlin:20211107T163000
DTSTAMP:20260420T103808
CREATED:20201129T184648Z
LAST-MODIFIED:20201129T184648Z
UID:10000249-1636293600-1636302600@narkolepsie-netzwerk.de
SUMMARY:Treffen Regionalgruppe Ruhrgebiet
DESCRIPTION:=> Bitte klingeln Sie am Eingang! \n\n\n\nVom Hagener Hauptbahnhof ist der Paritätische Hagen in wenigen Gehminuten zu erreichen. Parkmöglichkeiten befinden sich direkt gegenüber vom Paritätischen im Parkhaus der Polizei. \n\n\n\nUm besser planen zu können\, wünschen wir uns eine kurze Anmeldung per E-Mail oder Telefon. \n\n\n\nVeranstalter\n\n\n\n\n\nVeranstaltungsort
URL:https://narkolepsie-netzwerk.de/termin/treffen-regionalgruppe-ruhrgebiet-21-11/
LOCATION:Begegnungsstätte des Paritätischen\, Bahnhofstr. 41\, Hagen\, Deutschland
CATEGORIES:Gruppentreffen,Ruhrgebiet
GEO:51.3609028;7.4637826
X-APPLE-STRUCTURED-LOCATION;VALUE=URI;X-ADDRESS=Begegnungsstätte des Paritätischen Bahnhofstr. 41 Hagen Deutschland;X-APPLE-RADIUS=500;X-TITLE=Bahnhofstr. 41:geo:7.4637826,51.3609028
END:VEVENT
BEGIN:VEVENT
DTSTART;TZID=Europe/Berlin:20210829T140000
DTEND;TZID=Europe/Berlin:20210829T163000
DTSTAMP:20260420T103808
CREATED:20201129T184550Z
LAST-MODIFIED:20201129T184550Z
UID:10000248-1630245600-1630254600@narkolepsie-netzwerk.de
SUMMARY:Treffen Regionalgruppe Ruhrgebiet
DESCRIPTION:=> Bitte klingeln Sie am Eingang! \n\n\n\nVom Hagener Hauptbahnhof ist der Paritätische Hagen in wenigen Gehminuten zu erreichen. Parkmöglichkeiten befinden sich direkt gegenüber vom Paritätischen im Parkhaus der Polizei. \n\n\n\nUm besser planen zu können\, wünschen wir uns eine kurze Anmeldung per E-Mail oder Telefon. \n\n\n\nVeranstalter\n\n\n\n\n\nVeranstaltungsort
URL:https://narkolepsie-netzwerk.de/termin/treffen-regionalgruppe-ruhrgebiet-21-08/
LOCATION:Begegnungsstätte des Paritätischen\, Bahnhofstr. 41\, Hagen\, Deutschland
CATEGORIES:Gruppentreffen,Ruhrgebiet
GEO:51.3609028;7.4637826
X-APPLE-STRUCTURED-LOCATION;VALUE=URI;X-ADDRESS=Begegnungsstätte des Paritätischen Bahnhofstr. 41 Hagen Deutschland;X-APPLE-RADIUS=500;X-TITLE=Bahnhofstr. 41:geo:7.4637826,51.3609028
END:VEVENT
BEGIN:VEVENT
DTSTART;TZID=Europe/Berlin:20210530T140000
DTEND;TZID=Europe/Berlin:20210530T163000
DTSTAMP:20260420T103808
CREATED:20201129T184450Z
LAST-MODIFIED:20210524T134924Z
UID:10000247-1622383200-1622392200@narkolepsie-netzwerk.de
SUMMARY:Treffen Regionalgruppe Ruhrgebiet (Online)
DESCRIPTION:Leider sind die Infektionszahlen in Hagen noch immer so hoch\, dass wir auch in diesem Monat kein Präsenztreffen anbieten können. \n\n\n\nStattdessen werden wir uns noch einmal online per Videochat treffen. \n\n\n\nInteressierte mögen sich bitte bei uns vorab telefonisch oder per E-Mail melden\, damit wir Ihnen den Link zum Meeting (Zoom) schicken können.  \n\n\n\nVeranstalter\n\n\n\n\n\nVeranstaltungsort
URL:https://narkolepsie-netzwerk.de/termin/treffen-regionalgruppe-ruhrgebiet-21-05/
LOCATION:Begegnungsstätte des Paritätischen\, Bahnhofstr. 41\, Hagen\, Deutschland
CATEGORIES:Gruppentreffen,Ruhrgebiet
GEO:51.3609028;7.4637826
X-APPLE-STRUCTURED-LOCATION;VALUE=URI;X-ADDRESS=Begegnungsstätte des Paritätischen Bahnhofstr. 41 Hagen Deutschland;X-APPLE-RADIUS=500;X-TITLE=Bahnhofstr. 41:geo:7.4637826,51.3609028
END:VEVENT
BEGIN:VEVENT
DTSTART;TZID=Europe/Berlin:20201107T150000
DTEND;TZID=Europe/Berlin:20201107T173000
DTSTAMP:20260420T103808
CREATED:20191121T201453Z
LAST-MODIFIED:20201028T231939Z
UID:10000200-1604761200-1604770200@narkolepsie-netzwerk.de
SUMMARY:Abgesagt - Treffen Regionalgruppe Ruhrgebiet
DESCRIPTION:Die Gruppentreffen finden ab 2020 an neuem Ort statt! \n\n\n\n=> Bitte klingeln Sie am Eingang! \n\n\n\nVom Hagener Hauptbahnhof ist der Paritätische Hagen in wenigen Gehminuten zu erreichen. Parkmöglichkeiten befinden sich direkt gegenüber vom Paritätischen im Parkhaus der Polizei. \n\n\n\nUm besser planen zu können\, wünschen wir uns eine kurze Anmeldung per E-Mail oder Telefon. \n\n\n\nVeranstalter\n\n\n\n\n\nVeranstaltungsort
URL:https://narkolepsie-netzwerk.de/termin/treffen-regionalgruppe-ruhrgebiet-2020-04/
LOCATION:Begegnungsstätte des Paritätischen\, Bahnhofstr. 41\, Hagen\, Deutschland
CATEGORIES:Gruppentreffen,Ruhrgebiet
GEO:51.3609028;7.4637826
X-APPLE-STRUCTURED-LOCATION;VALUE=URI;X-ADDRESS=Begegnungsstätte des Paritätischen Bahnhofstr. 41 Hagen Deutschland;X-APPLE-RADIUS=500;X-TITLE=Bahnhofstr. 41:geo:7.4637826,51.3609028
END:VEVENT
BEGIN:VEVENT
DTSTART;TZID=Europe/Berlin:20200829T150000
DTEND;TZID=Europe/Berlin:20200829T173000
DTSTAMP:20260420T103808
CREATED:20191121T201320Z
LAST-MODIFIED:20200909T083351Z
UID:10000199-1598713200-1598722200@narkolepsie-netzwerk.de
SUMMARY:Treffen Regionalgruppe Ruhrgebiet
DESCRIPTION:Die Gruppentreffen finden ab 2020 an neuem Ort statt! \n\n\n\n=> Bitte klingeln Sie am Eingang! \n\n\n\nVom Hagener Hauptbahnhof ist der Paritätische Hagen in wenigen Gehminuten zu erreichen. Parkmöglichkeiten befinden sich direkt gegenüber vom Paritätischen im Parkhaus der Polizei. \n\n\n\nUm besser planen zu können\, wünschen wir uns eine kurze Anmeldung per E-Mail oder Telefon. \n\n\n\nVeranstalter\n\n\n\n\n\nVeranstaltungsort
URL:https://narkolepsie-netzwerk.de/termin/treffen-regionalgruppe-ruhrgebiet-2020-03/
LOCATION:Begegnungsstätte des Paritätischen\, Bahnhofstr. 41\, Hagen\, Deutschland
CATEGORIES:Gruppentreffen,Ruhrgebiet
GEO:51.3609028;7.4637826
X-APPLE-STRUCTURED-LOCATION;VALUE=URI;X-ADDRESS=Begegnungsstätte des Paritätischen Bahnhofstr. 41 Hagen Deutschland;X-APPLE-RADIUS=500;X-TITLE=Bahnhofstr. 41:geo:7.4637826,51.3609028
END:VEVENT
BEGIN:VEVENT
DTSTART;TZID=Europe/Berlin:20200523T150000
DTEND;TZID=Europe/Berlin:20200523T173000
DTSTAMP:20260420T103808
CREATED:20191121T201136Z
LAST-MODIFIED:20200518T122151Z
UID:10000198-1590246000-1590255000@narkolepsie-netzwerk.de
SUMMARY:Absage - Treffen Regionalgruppe Ruhrgebiet
DESCRIPTION:Leider müssen auch wir unsere Gruppentreffen bis auf weiteres ausfallen lassen wegen der CoVid-19-Krise.Trotz der aktuellen Lockerungen sind die Räumlichkeiten noch nicht wieder für Gruppentreffen freigegeben. \nWir hoffen\, dass wir beim nächsten Treffen im August wieder zusammen kommen können. \n++++++++++++++++++ \n\n\n\n\n\n\n\nVeranstalter\n\n\n\n\n\nVeranstaltungsort\n\n\n\n\n\n            \n            \n            \n            \n            \n            \n            \n            \n             \n            \n               \n         \nDie Gruppentreffen finden ab 2020 an neuem Ort statt! \n\n\n\n=> Bitte klingeln Sie am Eingang! \n\n\n\nVom Hagener Hauptbahnhof ist der Paritätische Hagen in wenigen Gehminuten zu erreichen. Parkmöglichkeiten befinden sich direkt gegenüber vom Paritätischen im Parkhaus der Polizei. \n\n\n\nUm besser planen zu können\, wünschen wir uns eine kurze Anmeldung per E-Mail oder Telefon. \n\n\n\nVeranstalter\n\n\n\n\n\nVeranstaltungsort
URL:https://narkolepsie-netzwerk.de/termin/treffen-regionalgruppe-ruhrgebiet-2020-02/
LOCATION:Begegnungsstätte des Paritätischen\, Bahnhofstr. 41\, Hagen\, Deutschland
CATEGORIES:Gruppentreffen,Ruhrgebiet
GEO:51.3609028;7.4637826
X-APPLE-STRUCTURED-LOCATION;VALUE=URI;X-ADDRESS=Begegnungsstätte des Paritätischen Bahnhofstr. 41 Hagen Deutschland;X-APPLE-RADIUS=500;X-TITLE=Bahnhofstr. 41:geo:7.4637826,51.3609028
END:VEVENT
BEGIN:VEVENT
DTSTART;TZID=Europe/Berlin:20200201T150000
DTEND;TZID=Europe/Berlin:20200201T173000
DTSTAMP:20260420T103808
CREATED:20191121T165618Z
LAST-MODIFIED:20191122T001820Z
UID:10000197-1580569200-1580578200@narkolepsie-netzwerk.de
SUMMARY:Treffen Regionalgruppe Ruhrgebiet
DESCRIPTION:Die Gruppentreffen finden ab 2020 an neuem Ort statt!  \n\n\n\n=> Bitte klingeln Sie am Eingang! \n\n\n\nVom Hagener Hauptbahnhof ist der Paritätische Hagen in wenigen Gehminuten zu erreichen. Parkmöglichkeiten befinden sich direkt gegenüber vom Paritätischen im Parkhaus der Polizei. \n\n\n\nUm besser planen zu können\, wünschen wir uns eine kurze Anmeldung per E-Mail oder Telefon.  \n\n\n\nVeranstalter\n\n\n\n\n\nVeranstaltungsort
URL:https://narkolepsie-netzwerk.de/termin/treffen-regionalgruppe-ruhrgebiet-2020-01/
LOCATION:Begegnungsstätte des Paritätischen\, Bahnhofstr. 41\, Hagen\, Deutschland
CATEGORIES:Gruppentreffen,Ruhrgebiet
GEO:51.3609028;7.4637826
X-APPLE-STRUCTURED-LOCATION;VALUE=URI;X-ADDRESS=Begegnungsstätte des Paritätischen Bahnhofstr. 41 Hagen Deutschland;X-APPLE-RADIUS=500;X-TITLE=Bahnhofstr. 41:geo:7.4637826,51.3609028
END:VEVENT
END:VCALENDAR