BEGIN:VCALENDAR
VERSION:2.0
PRODID:-//Narkolepsie-Netzwerk e.V. - ECPv6.15.18//NONSGML v1.0//EN
CALSCALE:GREGORIAN
METHOD:PUBLISH
X-WR-CALNAME:Narkolepsie-Netzwerk e.V.
X-ORIGINAL-URL:https://narkolepsie-netzwerk.de
X-WR-CALDESC:Veranstaltungen für Narkolepsie-Netzwerk e.V.
REFRESH-INTERVAL;VALUE=DURATION:PT1H
X-Robots-Tag:noindex
X-PUBLISHED-TTL:PT1H
BEGIN:VTIMEZONE
TZID:Europe/Berlin
BEGIN:DAYLIGHT
TZOFFSETFROM:+0100
TZOFFSETTO:+0200
TZNAME:CEST
DTSTART:20230326T010000
END:DAYLIGHT
BEGIN:STANDARD
TZOFFSETFROM:+0200
TZOFFSETTO:+0100
TZNAME:CET
DTSTART:20231029T010000
END:STANDARD
BEGIN:DAYLIGHT
TZOFFSETFROM:+0100
TZOFFSETTO:+0200
TZNAME:CEST
DTSTART:20240331T010000
END:DAYLIGHT
BEGIN:STANDARD
TZOFFSETFROM:+0200
TZOFFSETTO:+0100
TZNAME:CET
DTSTART:20241027T010000
END:STANDARD
BEGIN:DAYLIGHT
TZOFFSETFROM:+0100
TZOFFSETTO:+0200
TZNAME:CEST
DTSTART:20250330T010000
END:DAYLIGHT
BEGIN:STANDARD
TZOFFSETFROM:+0200
TZOFFSETTO:+0100
TZNAME:CET
DTSTART:20251026T010000
END:STANDARD
END:VTIMEZONE
BEGIN:VEVENT
DTSTART;TZID=Europe/Berlin:20240714T150000
DTEND;TZID=Europe/Berlin:20240714T180000
DTSTAMP:20260420T134931
CREATED:20240116T103651Z
LAST-MODIFIED:20240116T103654Z
UID:10000499-1720969200-1720980000@narkolepsie-netzwerk.de
SUMMARY:Treffen Regionalgruppe Rhein-Main
DESCRIPTION:Alle direkt und indirekt Betroffenen von Narkolepsie sowie Interessierte sind herzlich zu einem Präsenztreffen in den Räumen des Paritätischen Wohlfahrtsverbandes in Darmstadt eingeladen. \n\n\n\nFür Kaffee und Getränke ist gesorgt – Kuchen ist von freiwilligen Spendern abhängig\, welchen einen solchen mitbringen möchten. \n\n\n\nDamit wir planen können wünschen wir uns eine kurze Rück- bzw. Anmeldung von allen\, die kommen möchten\, aber auch gerne von regelmäßig teilnehmenden\, die dieses Mal keine Zeit haben. \n\n\n\n\nVeranstalter\n\n\n\n\n\n\n\nVeranstaltungsort
URL:https://narkolepsie-netzwerk.de/termin/rhein-main-24-07/
LOCATION:Paritätischer Wohlfahrtsverband Darmstadt\, Poststraße 9\, Darmstadt\, 64293\, Deutschland
CATEGORIES:Gruppentreffen,Rhein-Main
ORGANIZER;CN="Regionalgruppe Rhein-Main":MAILTO:rhein-main@narkolepsie-netzwerk.de
GEO:49.87354;8.6316746
X-APPLE-STRUCTURED-LOCATION;VALUE=URI;X-ADDRESS=Paritätischer Wohlfahrtsverband Darmstadt Poststraße 9 Darmstadt 64293 Deutschland;X-APPLE-RADIUS=500;X-TITLE=Poststraße 9:geo:8.6316746,49.87354
END:VEVENT
END:VCALENDAR