BEGIN:VCALENDAR
VERSION:2.0
PRODID:-//Narkolepsie-Netzwerk e.V. - ECPv6.15.18//NONSGML v1.0//EN
CALSCALE:GREGORIAN
METHOD:PUBLISH
X-WR-CALNAME:Narkolepsie-Netzwerk e.V.
X-ORIGINAL-URL:https://narkolepsie-netzwerk.de
X-WR-CALDESC:Veranstaltungen für Narkolepsie-Netzwerk e.V.
REFRESH-INTERVAL;VALUE=DURATION:PT1H
X-Robots-Tag:noindex
X-PUBLISHED-TTL:PT1H
BEGIN:VTIMEZONE
TZID:Europe/Berlin
BEGIN:DAYLIGHT
TZOFFSETFROM:+0100
TZOFFSETTO:+0200
TZNAME:CEST
DTSTART:20230326T010000
END:DAYLIGHT
BEGIN:STANDARD
TZOFFSETFROM:+0200
TZOFFSETTO:+0100
TZNAME:CET
DTSTART:20231029T010000
END:STANDARD
BEGIN:DAYLIGHT
TZOFFSETFROM:+0100
TZOFFSETTO:+0200
TZNAME:CEST
DTSTART:20240331T010000
END:DAYLIGHT
BEGIN:STANDARD
TZOFFSETFROM:+0200
TZOFFSETTO:+0100
TZNAME:CET
DTSTART:20241027T010000
END:STANDARD
BEGIN:DAYLIGHT
TZOFFSETFROM:+0100
TZOFFSETTO:+0200
TZNAME:CEST
DTSTART:20250330T010000
END:DAYLIGHT
BEGIN:STANDARD
TZOFFSETFROM:+0200
TZOFFSETTO:+0100
TZNAME:CET
DTSTART:20251026T010000
END:STANDARD
END:VTIMEZONE
BEGIN:VEVENT
DTSTART;TZID=Europe/Berlin:20240629T143000
DTEND;TZID=Europe/Berlin:20240629T173000
DTSTAMP:20260420T151656
CREATED:20231020T144002Z
LAST-MODIFIED:20240105T160327Z
UID:10000412-1719671400-1719682200@narkolepsie-netzwerk.de
SUMMARY:Treffen Regionalgruppe Rheinland
DESCRIPTION:Wir\, Sabine Müller und Norbert Schmidt\, leiten die Regionalgruppe Rheinland des Narkolepsie Netzwerkes.  \n\n\n\nIn unseren Treffen steht der Austausch unter Euch Betroffenen und Angehörigen im Vordergrund. Ihr findet Verständnis\, Familie\, Antworten\, Informationen und Erfahrungen von Menschen in ähnlichen Situationen.  \n\n\n\nHier seid Ihr nicht alleine mit Euren Sorgen\, Fragen\, Ängsten und Anliegen. \n\n\n\n\nVeranstalter\n\n\n\n\n\n\n\nVeranstaltungsort
URL:https://narkolepsie-netzwerk.de/termin/rheinland-24-06/
LOCATION:Der Paritätische Bonn\, Lotharstraße 95a\, Bonn\, NRW\, 53115\, Deutschland
CATEGORIES:Gruppentreffen,Rheinland
ORGANIZER;CN="Regionalgruppe Rheinland":MAILTO:rheinland@narkolepsie-netzwerk.de
GEO:50.7181613;7.1006272
X-APPLE-STRUCTURED-LOCATION;VALUE=URI;X-ADDRESS=Der Paritätische Bonn Lotharstraße 95a Bonn NRW 53115 Deutschland;X-APPLE-RADIUS=500;X-TITLE=Lotharstraße 95a:geo:7.1006272,50.7181613
END:VEVENT
END:VCALENDAR