BEGIN:VCALENDAR
VERSION:2.0
PRODID:-//Narkolepsie-Netzwerk e.V. - ECPv6.15.18//NONSGML v1.0//EN
CALSCALE:GREGORIAN
METHOD:PUBLISH
X-WR-CALNAME:Narkolepsie-Netzwerk e.V.
X-ORIGINAL-URL:https://narkolepsie-netzwerk.de
X-WR-CALDESC:Veranstaltungen für Narkolepsie-Netzwerk e.V.
REFRESH-INTERVAL;VALUE=DURATION:PT1H
X-Robots-Tag:noindex
X-PUBLISHED-TTL:PT1H
BEGIN:VTIMEZONE
TZID:Europe/Berlin
BEGIN:DAYLIGHT
TZOFFSETFROM:+0100
TZOFFSETTO:+0200
TZNAME:CEST
DTSTART:20230326T010000
END:DAYLIGHT
BEGIN:STANDARD
TZOFFSETFROM:+0200
TZOFFSETTO:+0100
TZNAME:CET
DTSTART:20231029T010000
END:STANDARD
BEGIN:DAYLIGHT
TZOFFSETFROM:+0100
TZOFFSETTO:+0200
TZNAME:CEST
DTSTART:20240331T010000
END:DAYLIGHT
BEGIN:STANDARD
TZOFFSETFROM:+0200
TZOFFSETTO:+0100
TZNAME:CET
DTSTART:20241027T010000
END:STANDARD
BEGIN:DAYLIGHT
TZOFFSETFROM:+0100
TZOFFSETTO:+0200
TZNAME:CEST
DTSTART:20250330T010000
END:DAYLIGHT
BEGIN:STANDARD
TZOFFSETFROM:+0200
TZOFFSETTO:+0100
TZNAME:CET
DTSTART:20251026T010000
END:STANDARD
END:VTIMEZONE
BEGIN:VEVENT
DTSTART;TZID=Europe/Berlin:20240407T140000
DTEND;TZID=Europe/Berlin:20240407T160000
DTSTAMP:20260420T181642
CREATED:20240105T150035Z
LAST-MODIFIED:20240406T141306Z
UID:10000490-1712498400-1712505600@narkolepsie-netzwerk.de
SUMMARY:ABGESAGT: Treffen Gruppe Unna
DESCRIPTION:Herzlich Willkommen! \n\n\n\nEgal ob Ihr selbst betroffen\, frisch diagnostiziert oder Angehörige/Freunde von Betroffenen seid. Wir sind da für Fragen\, Erfahrungsaustausch und/oder\, um einfach ein Gespräch zu führen. \n\n\n\n\nVeranstalter\n\n\n\n\n\n\n\nVeranstaltungsort
URL:https://narkolepsie-netzwerk.de/termin/unna-24-04/
LOCATION:Gesundheitshaus Unna\, Massenerstr. 35\, Unna\, 59423\, Deutschland
CATEGORIES:Gruppentreffen,Unna
ORGANIZER;CN="SHG Unna":MAILTO:shg-unna@narkolepsie-netzwerk.de
GEO:51.534841725719;7.6847461540246
X-APPLE-STRUCTURED-LOCATION;VALUE=URI;X-ADDRESS=Gesundheitshaus Unna Massenerstr. 35 Unna 59423 Deutschland;X-APPLE-RADIUS=500;X-TITLE=Massenerstr. 35:geo:7.6847461540246,51.534841725719
END:VEVENT
END:VCALENDAR