BEGIN:VCALENDAR
VERSION:2.0
PRODID:-//Narkolepsie-Netzwerk e.V. - ECPv6.15.18//NONSGML v1.0//EN
CALSCALE:GREGORIAN
METHOD:PUBLISH
X-ORIGINAL-URL:https://narkolepsie-netzwerk.de
X-WR-CALDESC:Veranstaltungen für Narkolepsie-Netzwerk e.V.
REFRESH-INTERVAL;VALUE=DURATION:PT1H
X-Robots-Tag:noindex
X-PUBLISHED-TTL:PT1H
BEGIN:VTIMEZONE
TZID:Europe/Berlin
BEGIN:DAYLIGHT
TZOFFSETFROM:+0100
TZOFFSETTO:+0200
TZNAME:CEST
DTSTART:20210328T010000
END:DAYLIGHT
BEGIN:STANDARD
TZOFFSETFROM:+0200
TZOFFSETTO:+0100
TZNAME:CET
DTSTART:20211031T010000
END:STANDARD
BEGIN:DAYLIGHT
TZOFFSETFROM:+0100
TZOFFSETTO:+0200
TZNAME:CEST
DTSTART:20220327T010000
END:DAYLIGHT
BEGIN:STANDARD
TZOFFSETFROM:+0200
TZOFFSETTO:+0100
TZNAME:CET
DTSTART:20221030T010000
END:STANDARD
BEGIN:DAYLIGHT
TZOFFSETFROM:+0100
TZOFFSETTO:+0200
TZNAME:CEST
DTSTART:20230326T010000
END:DAYLIGHT
BEGIN:STANDARD
TZOFFSETFROM:+0200
TZOFFSETTO:+0100
TZNAME:CET
DTSTART:20231029T010000
END:STANDARD
END:VTIMEZONE
BEGIN:VEVENT
DTSTART;TZID=Europe/Berlin:20221113T150000
DTEND;TZID=Europe/Berlin:20221113T180000
DTSTAMP:20260421T201825
CREATED:20220309T091735Z
LAST-MODIFIED:20220505T085952Z
UID:10000301-1668351600-1668362400@narkolepsie-netzwerk.de
SUMMARY:(Hybrid-)Gruppentreffen der SHG Darmstadt
DESCRIPTION:Die SHG Darmstadt kann wieder Treffen abhalten. Der Raum steht unter Einhaltung der Hygieneregeln (siehe unten) wieder zur Verfügung. \n\n\n\nDaher sind alle direkt und indirekt Betroffenen von Narkolepsie sowie Interessierten herzlich zu einem Präsenztreffen in den Räumen des Paritätischen Wohlfahrtsverbandes in Darmstadt eingeladen. \n\n\n\nFür Kaffee und Getränke ist gesorgt – Kuchen ist von freiwilligen Spendern abhängig\, welchen einen solchen mitbringen möchten. \n\n\n\nAuf Grund einer maximalen Teilnehmerzahl von 8 Personen\, benötigen wir\, die Gruppenleiter zur Planung eine Rück- bzw. Anmeldung von Interessenten. \n\n\n\nFür jene\, die nicht persönlich kommen können oder sich auch wegen der nachwievor unsicheren Corona-Lage nicht wohlfühlen mit einem Präsenztreffen bieten wir eine Teilnahme per Videochat an. \n\n\n\nEs wird die Software ZOOM genutzt\, und jeder kann sich auch über einen normalen Internet-Browser in das Treffen einwählen. Das klappt auf Desktop-Rechnern aber auch auf jedem mobilen Gerät. Bitte dafür unbedingt vorher mit uns Kontakt aufnehmen\, da wir den Link dann nur persönlich verschicken und nicht öffentlich machen wollen. \n\n\n\n\nVeranstalter\n\n\n\n\n\n\n\nVeranstaltungsort
URL:https://narkolepsie-netzwerk.de/termin/darmstadt-22-11/
LOCATION:Paritätischer Wohlfahrtsverband Darmstadt\, Poststraße 9\, Darmstadt\, 64293\, Deutschland
CATEGORIES:Gruppentreffen
ORGANIZER;CN="SHG Darmstadt":MAILTO:shg.darmstadt@web.de
GEO:49.87354;8.6316746
X-APPLE-STRUCTURED-LOCATION;VALUE=URI;X-ADDRESS=Paritätischer Wohlfahrtsverband Darmstadt Poststraße 9 Darmstadt 64293 Deutschland;X-APPLE-RADIUS=500;X-TITLE=Poststraße 9:geo:8.6316746,49.87354
END:VEVENT
END:VCALENDAR