BEGIN:VCALENDAR
VERSION:2.0
PRODID:-//Narkolepsie-Netzwerk e.V. - ECPv6.15.18//NONSGML v1.0//EN
CALSCALE:GREGORIAN
METHOD:PUBLISH
X-WR-CALNAME:Narkolepsie-Netzwerk e.V.
X-ORIGINAL-URL:https://narkolepsie-netzwerk.de
X-WR-CALDESC:Veranstaltungen für Narkolepsie-Netzwerk e.V.
REFRESH-INTERVAL;VALUE=DURATION:PT1H
X-Robots-Tag:noindex
X-PUBLISHED-TTL:PT1H
BEGIN:VTIMEZONE
TZID:Europe/Berlin
BEGIN:DAYLIGHT
TZOFFSETFROM:+0100
TZOFFSETTO:+0200
TZNAME:CEST
DTSTART:20210328T010000
END:DAYLIGHT
BEGIN:STANDARD
TZOFFSETFROM:+0200
TZOFFSETTO:+0100
TZNAME:CET
DTSTART:20211031T010000
END:STANDARD
BEGIN:DAYLIGHT
TZOFFSETFROM:+0100
TZOFFSETTO:+0200
TZNAME:CEST
DTSTART:20220327T010000
END:DAYLIGHT
BEGIN:STANDARD
TZOFFSETFROM:+0200
TZOFFSETTO:+0100
TZNAME:CET
DTSTART:20221030T010000
END:STANDARD
BEGIN:DAYLIGHT
TZOFFSETFROM:+0100
TZOFFSETTO:+0200
TZNAME:CEST
DTSTART:20230326T010000
END:DAYLIGHT
BEGIN:STANDARD
TZOFFSETFROM:+0200
TZOFFSETTO:+0100
TZNAME:CET
DTSTART:20231029T010000
END:STANDARD
END:VTIMEZONE
BEGIN:VEVENT
DTSTART;TZID=Europe/Berlin:20220611T170000
DTEND;TZID=Europe/Berlin:20220611T210000
DTSTAMP:20260422T033409
CREATED:20220608T141117Z
LAST-MODIFIED:20220609T190301Z
UID:10000320-1654966800-1654981200@narkolepsie-netzwerk.de
SUMMARY:Sommerfest der SHG Leipzig
DESCRIPTION:Thema des Juni-Treffens der SHG Leipzig ist:  \n\n\n\nDen Sommer feiern oder auch: den Sommer und uns feiern.  \n\n\n\n\n\n\n\nUnter den großen Bäumen im Garten der Villa ohne Barrieren wird ein Grill stehen\, auf dem Leckeres brutzelt. Jede/r bringt Grillgut nach eigenem Gusto und in der Menge mit\, die jede/r selbst verspeisen kann bzw. möchte.  \n\n\n\nBoccia/Boule\, Frisbee\, Musik etc. sind zur Unterhaltung auch dabei.  \n\n\n\nWer den Sommer\, das Leben feiern oder einfach nur einen schönen Abend haben möchte\, ist herzlich eingeladen.  \n\n\n\nWir freuen uns besonders über neue Gesichter: Wenn Du also bisher noch keine Zeit oder Infos zu unseren Treffen\, jedoch den Bedarf an Austausch hast\, kannst Du die SHG am 11. Juni bei einem anders als üblich ausgestalteten Treffen kennenlernen.  \n\n\n\n \n\n\n\n\nVeranstalter\n\n\n\n\n\n\n\n\nVeranstaltungsort
URL:https://narkolepsie-netzwerk.de/termin/shg-leipzig-22-06/
LOCATION:Villa Davignon – Villa ohne Barrieren\, Friedrich-Ebert-Str. 77\, Leipzig\, 04109\, Deutschland
CATEGORIES:Gruppentreffen
ATTACH;FMTTYPE=image/jpeg:https://narkolepsie-netzwerk.de/wp-content/uploads/2022/06/SHG-Leipzig2.jpg
GEO:51.3403816;12.360202
X-APPLE-STRUCTURED-LOCATION;VALUE=URI;X-ADDRESS=Villa Davignon – Villa ohne Barrieren Friedrich-Ebert-Str. 77 Leipzig 04109 Deutschland;X-APPLE-RADIUS=500;X-TITLE=Friedrich-Ebert-Str. 77:geo:12.360202,51.3403816
END:VEVENT
BEGIN:VEVENT
DTSTART;TZID=Europe/Berlin:20220625T110000
DTEND;TZID=Europe/Berlin:20220625T110000
DTSTAMP:20260422T033409
CREATED:20220426T140900Z
LAST-MODIFIED:20240425T095427Z
UID:10000316-1656154800-1656154800@narkolepsie-netzwerk.de
SUMMARY:Tagesausflug ins LWL-Freilichtmuseum
DESCRIPTION:für alle interessierten Betroffenen und ihre Angehörigen \n\n\n\nAm Samstag\, den 25.06.2022\, trifft sich die Regionalgruppe Ruhrgebiet zu einem Tagesausflug im LWL-Freilichtmuseum in Hagen.  \n\n\n\nDas Angebot richtet sich aber an alle von Narkolepsie Betroffenen und deren Angehörige\, die Interesse am Erfahrungsaustausch haben – auch über die Grenzen der Regionalgruppe hinaus. \n\n\n\nIm LWL-Freilichtmuseum Hagen erwartet uns 200 Jahre Handwerks- und Technikgeschichte aus Westfalen und Lippe\, der Duft von frisch gebackenem Brot und geröstetem Kaffee\, lodernde Schmiedefeuer und vieles mehr.   \n\n\n\nWir würden uns freuen\, wenn wir den abwechslungsreichen Tag im Freilichtmuseum gemeinsam verbringen. \n\n\n\nWir treffen uns am 25.06.2022 um 11.00 Uhr an der Kasse des Freilichtmuseums. \n\n\n\nUm 13.00 Uhr besteht die Möglichkeit\, gemeinsam Mittagessen zu essen. Tische sind für uns reserviert. Das Restaurant „Museumsterrassen“ im mittleren Bereich bietet typische Spezialitäten aus Westfalen. Ob westfälischer Mittagstisch\, Kuchen vom Blech\, bergische Kaffeetafel oder Schmiede-Schmaus: die Museumsterrassen bieten für jeden Geschmack etwas. \n\n\n\nEintrittspreise: \n\n\n\n\nKinder und Jugendliche (bis einschließlich 17 Jahre) : frei\n\n\n\nErwachsene: 8 €\n\n\n\nErmäßigungsberechtigte: 4 €\n\n\n\n\nWeiter Infos zum Freilichtmuseum unter: \n\n\n\nhttps://www.lwl-freilichtmuseum-hagen.de/de/ \n\n\n\nWeitere Infos zum Tagesausflug: \n\n\n\nDer Tagesausflug ins Freilichtmuseum ist eine Veranstaltung des Narkolepsie Netzwerk e.V.\, die durch die Regionalgruppe Ruhrgebiet organisiert wird. Es wird allerdings keine Haftung für Personenschäden übernommen. \n\n\n\nWeiterhin können keine Fahrtkosten erstattet werden. Der Eintrittspreis und das Mittagessen sind von jedem Teilnehmenden selbst zu entrichten. \n\n\n\nWir würden uns über eine rege Teilnahme freuen. Familienanhang ist erwünscht. Herzlich willkommen sind natürlich auch alle anderen von Narkolepsie Betroffenen und deren Angehörige\, die nicht der Regionalgruppe Ruhrgebiet angehören. \n\n\n\nDamit wir einen Überblick über die Teilnehmer haben und somit ausreichend Sitzplätze zum Mittagessen\, bitten wir um kurze Rückmeldung unter unten angegebener E-Mail Adresse.
URL:https://narkolepsie-netzwerk.de/termin/tagesausflug-lwl_freilichtmuseum-22-06/
LOCATION:LWL- Freilichtmuseum Hagen\, Selbecker Straße\, Hagen\, Arnsberg\, 58091\, Germany
CATEGORIES:Gruppentreffen,Ruhrgebiet
GEO:51.3354703;7.4761403
X-APPLE-STRUCTURED-LOCATION;VALUE=URI;X-ADDRESS=LWL- Freilichtmuseum Hagen Selbecker Straße Hagen Arnsberg 58091 Germany;X-APPLE-RADIUS=500;X-TITLE=Selbecker Straße:geo:7.4761403,51.3354703
END:VEVENT
END:VCALENDAR