BEGIN:VCALENDAR
VERSION:2.0
PRODID:-//Narkolepsie-Netzwerk e.V. - ECPv6.15.18//NONSGML v1.0//EN
CALSCALE:GREGORIAN
METHOD:PUBLISH
X-WR-CALNAME:Narkolepsie-Netzwerk e.V.
X-ORIGINAL-URL:https://narkolepsie-netzwerk.de
X-WR-CALDESC:Veranstaltungen für Narkolepsie-Netzwerk e.V.
REFRESH-INTERVAL;VALUE=DURATION:PT1H
X-Robots-Tag:noindex
X-PUBLISHED-TTL:PT1H
BEGIN:VTIMEZONE
TZID:Europe/Berlin
BEGIN:DAYLIGHT
TZOFFSETFROM:+0100
TZOFFSETTO:+0200
TZNAME:CEST
DTSTART:20200329T010000
END:DAYLIGHT
BEGIN:STANDARD
TZOFFSETFROM:+0200
TZOFFSETTO:+0100
TZNAME:CET
DTSTART:20201025T010000
END:STANDARD
BEGIN:DAYLIGHT
TZOFFSETFROM:+0100
TZOFFSETTO:+0200
TZNAME:CEST
DTSTART:20210328T010000
END:DAYLIGHT
BEGIN:STANDARD
TZOFFSETFROM:+0200
TZOFFSETTO:+0100
TZNAME:CET
DTSTART:20211031T010000
END:STANDARD
BEGIN:DAYLIGHT
TZOFFSETFROM:+0100
TZOFFSETTO:+0200
TZNAME:CEST
DTSTART:20220327T010000
END:DAYLIGHT
BEGIN:STANDARD
TZOFFSETFROM:+0200
TZOFFSETTO:+0100
TZNAME:CET
DTSTART:20221030T010000
END:STANDARD
END:VTIMEZONE
BEGIN:VEVENT
DTSTART;TZID=Europe/Berlin:20210807T153000
DTEND;TZID=Europe/Berlin:20210807T174500
DTSTAMP:20260422T173950
CREATED:20210803T074200Z
LAST-MODIFIED:20210803T153030Z
UID:10000273-1628350200-1628358300@narkolepsie-netzwerk.de
SUMMARY:Treffen Regionalgruppe Weser-Ems
DESCRIPTION:Wir veranstalten wieder ein Selbsthilfe- Präsenztreffen in Bremen \nDaher trifft sich die Regionalgruppe Weser-Ems (ehemals Narkolepsie-Selbsthilfe Gruppe Bremen) von 15.30 bis 17:45 Uhr in den Räumen der Netzwerk-Selbsthilfe. \nBitte meldet Euch vorher an\, damit wir alle notwendigen Vorkehrungen treffen können. \nWir freuen uns über alle diejenigen direkt und indirekt Betroffenen sowie Interessierten\, die teilnehmen. \nKontaktmöglichkeit über Mail an: weser-ems@narkolepsie-netzwerk.de \noder per Telefon: +49 1525 8150930
URL:https://narkolepsie-netzwerk.de/termin/treffen-regionalgruppe-weser-ems-2021-03/
LOCATION:Netzwerk-Selbsthilfe Bremen\, Faulenstraße 31\, Bremen\, 28195\, Deutschland
CATEGORIES:Gruppentreffen,Weser-Ems
ATTACH;FMTTYPE=image/jpeg:https://narkolepsie-netzwerk.de/wp-content/uploads/2021/03/Gruppentreffen-1.jpg
ORGANIZER;CN="Regionalgruppe Weser-Ems":MAILTO:weser-ems@narkolepsie-netzwerk.de
GEO:53.08046;8.7979192
X-APPLE-STRUCTURED-LOCATION;VALUE=URI;X-ADDRESS=Netzwerk-Selbsthilfe Bremen Faulenstraße 31 Bremen 28195 Deutschland;X-APPLE-RADIUS=500;X-TITLE=Faulenstraße 31:geo:8.7979192,53.08046
END:VEVENT
END:VCALENDAR