BEGIN:VCALENDAR
VERSION:2.0
PRODID:-//Narkolepsie-Netzwerk e.V. - ECPv6.15.18//NONSGML v1.0//EN
CALSCALE:GREGORIAN
METHOD:PUBLISH
X-ORIGINAL-URL:https://narkolepsie-netzwerk.de
X-WR-CALDESC:Veranstaltungen für Narkolepsie-Netzwerk e.V.
REFRESH-INTERVAL;VALUE=DURATION:PT1H
X-Robots-Tag:noindex
X-PUBLISHED-TTL:PT1H
BEGIN:VTIMEZONE
TZID:Europe/Berlin
BEGIN:DAYLIGHT
TZOFFSETFROM:+0100
TZOFFSETTO:+0200
TZNAME:CEST
DTSTART:20200329T010000
END:DAYLIGHT
BEGIN:STANDARD
TZOFFSETFROM:+0200
TZOFFSETTO:+0100
TZNAME:CET
DTSTART:20201025T010000
END:STANDARD
BEGIN:DAYLIGHT
TZOFFSETFROM:+0100
TZOFFSETTO:+0200
TZNAME:CEST
DTSTART:20210328T010000
END:DAYLIGHT
BEGIN:STANDARD
TZOFFSETFROM:+0200
TZOFFSETTO:+0100
TZNAME:CET
DTSTART:20211031T010000
END:STANDARD
BEGIN:DAYLIGHT
TZOFFSETFROM:+0100
TZOFFSETTO:+0200
TZNAME:CEST
DTSTART:20220327T010000
END:DAYLIGHT
BEGIN:STANDARD
TZOFFSETFROM:+0200
TZOFFSETTO:+0100
TZNAME:CET
DTSTART:20221030T010000
END:STANDARD
END:VTIMEZONE
BEGIN:VEVENT
DTSTART;TZID=Europe/Berlin:20210704T150000
DTEND;TZID=Europe/Berlin:20210704T180000
DTSTAMP:20260422T190354
CREATED:20210622T133900Z
LAST-MODIFIED:20210630T163229Z
UID:10000269-1625410800-1625421600@narkolepsie-netzwerk.de
SUMMARY:Gruppentreffen der SHG Darmstadt
DESCRIPTION:Die SHG Darmstadt kann wieder Treffen abhalten.  Der Raum steht unter Einhaltung der Hygieneregeln (siehe unten) wieder zur Verfügung. \nDaher sind alle direkt und indirekt Betroffenen von Narkolepsie sowie Interessierten herzlich zu einem Präsenztreffen am Sonntag \, 04. Juli 2021 ab 15:00 Uhr in den Räumen des Paritätischen Wohlfahrtsverbandes in Darmstadt eingeladen. \nFür Kaffee und Getränke ist gesorgt – Kuchen ist von freiwilligen Spendern abhängig\, welchen einen solchen mitbringen möchten. \nAuf Grund einer maximalen Teilnehmerzahl von 10 Personen (von Covid-19 Genesene\, Geimpfte und Kinder unter 14 Jahren werden nicht mitgezählt)\, benötigen die Gruppenleiter zur Planung eine Rück- bzw. Anmeldung von Interessenten per Telefon (0178- 1382433) oder Mail an shg.darmstadt@web.de \n\n\n\n\nHygieneregeln:\n\n\n\nEs dürfen sich max. 10 Personen im Gruppenraum aufhalten\, um einen Abstand von 1\,5 Meter gewährleisten zu können. Hände- und Flächendesinfektionsmittel stehen zur Verfügung. \n\n\n\nGrundsätzliche Schutzmaßnahmen: \n\n\n\nMaskenpflicht beim Betreten der GeschäftsstelleBesucher*innen hinterlassen Name und Kontaktmöglichkeit auf den bereitgestellten VordruckenToilettengang = Maskenpflichtkeine gemeinsame Garderobe (Jacken u.ä. sind mit an den Platz zu nehmen)in allen Räumen immer auf 1\,5 Meter Abstand achtenbenutzte Räume mindestens alle 30 Minuten gründlich lüften
URL:https://narkolepsie-netzwerk.de/termin/shg-darmstadt-21-07/
LOCATION:Paritätischer Wohlfahrtsverband Darmstadt\, Poststraße 9\, Darmstadt\, 64293\, Deutschland
CATEGORIES:Gruppentreffen
GEO:49.87354;8.6316746
X-APPLE-STRUCTURED-LOCATION;VALUE=URI;X-ADDRESS=Paritätischer Wohlfahrtsverband Darmstadt Poststraße 9 Darmstadt 64293 Deutschland;X-APPLE-RADIUS=500;X-TITLE=Poststraße 9:geo:8.6316746,49.87354
END:VEVENT
END:VCALENDAR