BEGIN:VCALENDAR
VERSION:2.0
PRODID:-//Narkolepsie-Netzwerk e.V. - ECPv6.15.18//NONSGML v1.0//EN
CALSCALE:GREGORIAN
METHOD:PUBLISH
X-ORIGINAL-URL:https://narkolepsie-netzwerk.de
X-WR-CALDESC:Veranstaltungen für Narkolepsie-Netzwerk e.V.
REFRESH-INTERVAL;VALUE=DURATION:PT1H
X-Robots-Tag:noindex
X-PUBLISHED-TTL:PT1H
BEGIN:VTIMEZONE
TZID:Europe/Berlin
BEGIN:DAYLIGHT
TZOFFSETFROM:+0100
TZOFFSETTO:+0200
TZNAME:CEST
DTSTART:20190331T010000
END:DAYLIGHT
BEGIN:STANDARD
TZOFFSETFROM:+0200
TZOFFSETTO:+0100
TZNAME:CET
DTSTART:20191027T010000
END:STANDARD
BEGIN:DAYLIGHT
TZOFFSETFROM:+0100
TZOFFSETTO:+0200
TZNAME:CEST
DTSTART:20200329T010000
END:DAYLIGHT
BEGIN:STANDARD
TZOFFSETFROM:+0200
TZOFFSETTO:+0100
TZNAME:CET
DTSTART:20201025T010000
END:STANDARD
BEGIN:DAYLIGHT
TZOFFSETFROM:+0100
TZOFFSETTO:+0200
TZNAME:CEST
DTSTART:20210328T010000
END:DAYLIGHT
BEGIN:STANDARD
TZOFFSETFROM:+0200
TZOFFSETTO:+0100
TZNAME:CET
DTSTART:20211031T010000
END:STANDARD
END:VTIMEZONE
BEGIN:VEVENT
DTSTART;TZID=Europe/Berlin:20200711T143000
DTEND;TZID=Europe/Berlin:20200711T173000
DTSTAMP:20260423T112542
CREATED:20200205T074232Z
LAST-MODIFIED:20200205T074232Z
UID:10000227-1594477800-1594488600@narkolepsie-netzwerk.de
SUMMARY:Gruppentreffen der SHG Bremen
DESCRIPTION:Die unabhängige Narkolepsie-Selbsthilfe Gruppe in Bremen trifft sich von 14:30 bis 17:30 in den Räumen der Netzwerk-Selbsthilfe. \nKontaktmöglichkeit über: Narkolepsie.SHG.HB@gmx.de
URL:https://narkolepsie-netzwerk.de/termin/gruppentreffen-der-shg-bremen_20-07/
LOCATION:Netzwerk-Selbsthilfe Bremen\, Faulenstraße 31\, Bremen\, 28195\, Deutschland
CATEGORIES:Gruppentreffen
GEO:53.08046;8.7979192
X-APPLE-STRUCTURED-LOCATION;VALUE=URI;X-ADDRESS=Netzwerk-Selbsthilfe Bremen Faulenstraße 31 Bremen 28195 Deutschland;X-APPLE-RADIUS=500;X-TITLE=Faulenstraße 31:geo:8.7979192,53.08046
END:VEVENT
END:VCALENDAR