BEGIN:VCALENDAR
VERSION:2.0
PRODID:-//Narkolepsie-Netzwerk e.V. - ECPv6.15.18//NONSGML v1.0//EN
CALSCALE:GREGORIAN
METHOD:PUBLISH
X-WR-CALNAME:Narkolepsie-Netzwerk e.V.
X-ORIGINAL-URL:https://narkolepsie-netzwerk.de
X-WR-CALDESC:Veranstaltungen für Narkolepsie-Netzwerk e.V.
REFRESH-INTERVAL;VALUE=DURATION:PT1H
X-Robots-Tag:noindex
X-PUBLISHED-TTL:PT1H
BEGIN:VTIMEZONE
TZID:Europe/Berlin
BEGIN:DAYLIGHT
TZOFFSETFROM:+0100
TZOFFSETTO:+0200
TZNAME:CEST
DTSTART:20180325T010000
END:DAYLIGHT
BEGIN:STANDARD
TZOFFSETFROM:+0200
TZOFFSETTO:+0100
TZNAME:CET
DTSTART:20181028T010000
END:STANDARD
BEGIN:DAYLIGHT
TZOFFSETFROM:+0100
TZOFFSETTO:+0200
TZNAME:CEST
DTSTART:20190331T010000
END:DAYLIGHT
BEGIN:STANDARD
TZOFFSETFROM:+0200
TZOFFSETTO:+0100
TZNAME:CET
DTSTART:20191027T010000
END:STANDARD
BEGIN:DAYLIGHT
TZOFFSETFROM:+0100
TZOFFSETTO:+0200
TZNAME:CEST
DTSTART:20200329T010000
END:DAYLIGHT
BEGIN:STANDARD
TZOFFSETFROM:+0200
TZOFFSETTO:+0100
TZNAME:CET
DTSTART:20201025T010000
END:STANDARD
END:VTIMEZONE
BEGIN:VEVENT
DTSTART;TZID=Europe/Berlin:20191031T140000
DTEND;TZID=Europe/Berlin:20191031T170000
DTSTAMP:20260424T003117
CREATED:20200421T141141Z
LAST-MODIFIED:20200422T221937Z
UID:10000238-1572530400-1572541200@narkolepsie-netzwerk.de
SUMMARY:Treffen Regionalgruppe Württemberg
DESCRIPTION:Wir treffen uns einmal im Quartal im Katholischen Gemeindezentrum in Korntal bei Stuttgart. \nEingeladen sind Menschen mit Narkolepsie\, ihre Angehörigen und alle Interessierten. \nIm Vordergrund steht immer der Erfahrungsaustausch\, eine Ergänzung durch Referenten\, kurze Workshop- Einheiten\, etc. sind geplant. \nFür Getränke ist gesorgt\, über einen mitgebrachten Beitrag zu unserem „Snackbuffet“ sind wir immer dankbar. \nDie Gruppe ist offen\, die Veranstaltung kostenlos für die Teilnehmer. Wir freuen uns über jede Person\, die teilnehmen möchte. Um die Veranstaltung planen zu können\, bitten wir neue Teilnehmer um Anmeldung per Email.
URL:https://narkolepsie-netzwerk.de/termin/selbsthilfetreffen-der-regionalgruppe-wuerttemberg-2019-10-31/
LOCATION:NRW
CATEGORIES:Gruppentreffen,Württemberg
ORGANIZER;CN="Regionalgruppe W%C3%BCrttemberg":MAILTO:wuerttemberg@narkolepsie-netzwerk.de
END:VEVENT
END:VCALENDAR