BEGIN:VCALENDAR
VERSION:2.0
PRODID:-//Narkolepsie-Netzwerk e.V. - ECPv6.15.18//NONSGML v1.0//EN
CALSCALE:GREGORIAN
METHOD:PUBLISH
X-WR-CALNAME:Narkolepsie-Netzwerk e.V.
X-ORIGINAL-URL:https://narkolepsie-netzwerk.de
X-WR-CALDESC:Veranstaltungen für Narkolepsie-Netzwerk e.V.
REFRESH-INTERVAL;VALUE=DURATION:PT1H
X-Robots-Tag:noindex
X-PUBLISHED-TTL:PT1H
BEGIN:VTIMEZONE
TZID:Europe/Berlin
BEGIN:DAYLIGHT
TZOFFSETFROM:+0100
TZOFFSETTO:+0200
TZNAME:CEST
DTSTART:20230326T010000
END:DAYLIGHT
BEGIN:STANDARD
TZOFFSETFROM:+0200
TZOFFSETTO:+0100
TZNAME:CET
DTSTART:20231029T010000
END:STANDARD
BEGIN:DAYLIGHT
TZOFFSETFROM:+0100
TZOFFSETTO:+0200
TZNAME:CEST
DTSTART:20240331T010000
END:DAYLIGHT
BEGIN:STANDARD
TZOFFSETFROM:+0200
TZOFFSETTO:+0100
TZNAME:CET
DTSTART:20241027T010000
END:STANDARD
BEGIN:DAYLIGHT
TZOFFSETFROM:+0100
TZOFFSETTO:+0200
TZNAME:CEST
DTSTART:20250330T010000
END:DAYLIGHT
BEGIN:STANDARD
TZOFFSETFROM:+0200
TZOFFSETTO:+0100
TZNAME:CET
DTSTART:20251026T010000
END:STANDARD
BEGIN:DAYLIGHT
TZOFFSETFROM:+0100
TZOFFSETTO:+0200
TZNAME:CEST
DTSTART:20260329T010000
END:DAYLIGHT
BEGIN:STANDARD
TZOFFSETFROM:+0200
TZOFFSETTO:+0100
TZNAME:CET
DTSTART:20261025T010000
END:STANDARD
END:VTIMEZONE
BEGIN:VEVENT
DTSTART;TZID=Europe/Berlin:20241110T150000
DTEND;TZID=Europe/Berlin:20241110T180000
DTSTAMP:20260420T085157
CREATED:20240116T103748Z
LAST-MODIFIED:20240116T104519Z
UID:10000501-1731250800-1731261600@narkolepsie-netzwerk.de
SUMMARY:Treffen Regionalgruppe Rhein-Main
DESCRIPTION:Alle direkt und indirekt Betroffenen von Narkolepsie sowie Interessierte sind herzlich zu einem Präsenztreffen in den Räumen des Paritätischen Wohlfahrtsverbandes in Darmstadt eingeladen. \n\n\n\nFür Kaffee und Getränke ist gesorgt – Kuchen ist von freiwilligen Spendern abhängig\, welchen einen solchen mitbringen möchten. \n\n\n\nDamit wir planen können wünschen wir uns eine kurze Rück- bzw. Anmeldung von allen\, die kommen möchten\, aber auch gerne von regelmäßig teilnehmenden\, die dieses Mal keine Zeit haben. \n\n\n\n\nVeranstalter\n\n\n\n\n\n\n\nVeranstaltungsort
URL:https://narkolepsie-netzwerk.de/termin/rhein-main-24-11/
LOCATION:Paritätischer Wohlfahrtsverband Darmstadt\, Poststraße 9\, Darmstadt\, 64293\, Deutschland
CATEGORIES:Gruppentreffen,Rhein-Main
ORGANIZER;CN="Regionalgruppe Rhein-Main":MAILTO:rhein-main@narkolepsie-netzwerk.de
GEO:49.87354;8.6316746
X-APPLE-STRUCTURED-LOCATION;VALUE=URI;X-ADDRESS=Paritätischer Wohlfahrtsverband Darmstadt Poststraße 9 Darmstadt 64293 Deutschland;X-APPLE-RADIUS=500;X-TITLE=Poststraße 9:geo:8.6316746,49.87354
END:VEVENT
BEGIN:VEVENT
DTSTART;TZID=Europe/Berlin:20241117T140000
DTEND;TZID=Europe/Berlin:20241117T160000
DTSTAMP:20260420T085157
CREATED:20240105T151004Z
LAST-MODIFIED:20240105T153559Z
UID:10000493-1731852000-1731859200@narkolepsie-netzwerk.de
SUMMARY:Treffen Gruppe Unna
DESCRIPTION:Herzlich Willkommen! \n\n\n\nEgal ob Ihr selbst betroffen\, frisch diagnostiziert oder Angehörige/Freunde von Betroffenen seid. Wir sind da für Fragen\, Erfahrungsaustausch und/oder\, um einfach ein Gespräch zu führen. \n\n\n\n\nVeranstalter\n\n\n\n\n\n\n\nVeranstaltungsort
URL:https://narkolepsie-netzwerk.de/termin/unna-24-11/
LOCATION:Gesundheitshaus Unna\, Massenerstr. 35\, Unna\, 59423\, Deutschland
CATEGORIES:Gruppentreffen,Unna
ORGANIZER;CN="SHG Unna":MAILTO:shg-unna@narkolepsie-netzwerk.de
GEO:51.534841725719;7.6847461540246
X-APPLE-STRUCTURED-LOCATION;VALUE=URI;X-ADDRESS=Gesundheitshaus Unna Massenerstr. 35 Unna 59423 Deutschland;X-APPLE-RADIUS=500;X-TITLE=Massenerstr. 35:geo:7.6847461540246,51.534841725719
END:VEVENT
BEGIN:VEVENT
DTSTART;TZID=Europe/Berlin:20241214T143000
DTEND;TZID=Europe/Berlin:20241214T173000
DTSTAMP:20260420T085157
CREATED:20231020T142731Z
LAST-MODIFIED:20250115T184414Z
UID:10000411-1734186600-1734197400@narkolepsie-netzwerk.de
SUMMARY:Treffen Regionalgruppe Rheinland
DESCRIPTION:Wir\, Sabine Müller und Norbert Schmidt\, leiten die Regionalgruppe Rheinland des Narkolepsie Netzwerkes. \n\n\n\nIn unseren Treffen steht der Austausch unter Euch Betroffenen und Angehörigen im Vordergrund. Ihr findet Verständnis\, Familie\, Antworten\, Informationen und Erfahrungen von Menschen in ähnlichen Situationen. \n\n\n\nHier seid Ihr nicht alleine mit Euren Sorgen\, Fragen\, Ängsten und Anliegen. \n\n\n\n\nVeranstalter\n\n\n\n\n\n\n\nVeranstaltungsort
URL:https://narkolepsie-netzwerk.de/termin/rheinland-24-10/2024-12-14/
LOCATION:Der Paritätische Bonn\, Lotharstraße 95a\, Bonn\, NRW\, 53115\, Deutschland
CATEGORIES:Gruppentreffen,Rheinland
ORGANIZER;CN="Regionalgruppe Rheinland":MAILTO:rheinland@narkolepsie-netzwerk.de
GEO:50.7181613;7.1006272
X-APPLE-STRUCTURED-LOCATION;VALUE=URI;X-ADDRESS=Der Paritätische Bonn Lotharstraße 95a Bonn NRW 53115 Deutschland;X-APPLE-RADIUS=500;X-TITLE=Lotharstraße 95a:geo:7.1006272,50.7181613
END:VEVENT
BEGIN:VEVENT
DTSTART;TZID=Europe/Berlin:20250308T143000
DTEND;TZID=Europe/Berlin:20250308T170000
DTSTAMP:20260420T085157
CREATED:20231020T142731Z
LAST-MODIFIED:20250115T184414Z
UID:10000543-1741444200-1741453200@narkolepsie-netzwerk.de
SUMMARY:Treffen Regionalgruppe Rheinland
DESCRIPTION:Wir\, Sabine Müller und Norbert Schmidt\, leiten die Regionalgruppe Rheinland des Narkolepsie Netzwerkes. \n\n\n\nIn unseren Treffen steht der Austausch unter Euch Betroffenen und Angehörigen im Vordergrund. Ihr findet Verständnis\, Familie\, Antworten\, Informationen und Erfahrungen von Menschen in ähnlichen Situationen. \n\n\n\nHier seid Ihr nicht alleine mit Euren Sorgen\, Fragen\, Ängsten und Anliegen. \n\n\n\n\nVeranstalter\n\n\n\n\n\n\n\nVeranstaltungsort
URL:https://narkolepsie-netzwerk.de/termin/rheinland-24-10/2025-03-08/
LOCATION:Der Paritätische Bonn\, Lotharstraße 95a\, Bonn\, NRW\, 53115\, Deutschland
CATEGORIES:Gruppentreffen,Rheinland
ORGANIZER;CN="Regionalgruppe Rheinland":MAILTO:rheinland@narkolepsie-netzwerk.de
GEO:50.7181613;7.1006272
X-APPLE-STRUCTURED-LOCATION;VALUE=URI;X-ADDRESS=Der Paritätische Bonn Lotharstraße 95a Bonn NRW 53115 Deutschland;X-APPLE-RADIUS=500;X-TITLE=Lotharstraße 95a:geo:7.1006272,50.7181613
END:VEVENT
BEGIN:VEVENT
DTSTART;TZID=Europe/Berlin:20250614T143000
DTEND;TZID=Europe/Berlin:20250614T170000
DTSTAMP:20260420T085157
CREATED:20250511T155550Z
LAST-MODIFIED:20250511T160007Z
UID:10000544-1749911400-1749920400@narkolepsie-netzwerk.de
SUMMARY:Treffen Regionalgruppe Rheinland
DESCRIPTION:Wir\, Sabine Müller und Norbert Schmidt\, leiten die Regionalgruppe Rheinland des Narkolepsie Netzwerkes. \n\n\n\nIn unseren Treffen steht der Austausch unter Euch Betroffenen und Angehörigen im Vordergrund. Ihr findet Verständnis\, Familie\, Antworten\, Informationen und Erfahrungen von Menschen in ähnlichen Situationen. \n\n\n\nHier seid Ihr nicht alleine mit Euren Sorgen\, Fragen\, Ängsten und Anliegen. \n\n\n\n\n\n\n\n\nVeranstalter\n\n\n\n	\n		Regionalgruppe Rheinland\n	\n			015678 – 255209 \n					rheinland@narkolepsie-netzwerk.de \n	\n\n\n\n\n\n\n\n\n\nVeranstaltungsort\n\n\n\nLotharstraße 9553115 Bonn
URL:https://narkolepsie-netzwerk.de/termin/rheinland-25-06/
LOCATION:Der Paritätische Bonn\, Lotharstraße 95a\, Bonn\, NRW\, 53115\, Deutschland
CATEGORIES:Gruppentreffen,Rheinland
ORGANIZER;CN="Regionalgruppe Rheinland":MAILTO:rheinland@narkolepsie-netzwerk.de
GEO:50.7181613;7.1006272
X-APPLE-STRUCTURED-LOCATION;VALUE=URI;X-ADDRESS=Der Paritätische Bonn Lotharstraße 95a Bonn NRW 53115 Deutschland;X-APPLE-RADIUS=500;X-TITLE=Lotharstraße 95a:geo:7.1006272,50.7181613
END:VEVENT
BEGIN:VEVENT
DTSTART;TZID=Europe/Berlin:20250920T143000
DTEND;TZID=Europe/Berlin:20250920T170000
DTSTAMP:20260420T085157
CREATED:20250511T160033Z
LAST-MODIFIED:20250511T160309Z
UID:10000545-1758378600-1758387600@narkolepsie-netzwerk.de
SUMMARY:Treffen Regionalgruppe Rheinland
DESCRIPTION:Wir\, Sabine Müller und Norbert Schmidt\, leiten die Regionalgruppe Rheinland des Narkolepsie Netzwerkes. \n\n\n\nIn unseren Treffen steht der Austausch unter Euch Betroffenen und Angehörigen im Vordergrund. Ihr findet Verständnis\, Familie\, Antworten\, Informationen und Erfahrungen von Menschen in ähnlichen Situationen. \n\n\n\nHier seid Ihr nicht alleine mit Euren Sorgen\, Fragen\, Ängsten und Anliegen. \n\n\n\n\n\n\n\n\nVeranstalter\n\n\n\n	\n		Regionalgruppe Rheinland\n	\n			015678 – 255209 \n					rheinland@narkolepsie-netzwerk.de \n	\n\n\n\n\n\n\n\n\n\nVeranstaltungsort\n\n\n\nLotharstraße 9553115 Bonn
URL:https://narkolepsie-netzwerk.de/termin/rheinland-25-09/
LOCATION:Der Paritätische Bonn\, Lotharstraße 95a\, Bonn\, NRW\, 53115\, Deutschland
CATEGORIES:Gruppentreffen,Rheinland
ORGANIZER;CN="Regionalgruppe Rheinland":MAILTO:rheinland@narkolepsie-netzwerk.de
GEO:50.7181613;7.1006272
X-APPLE-STRUCTURED-LOCATION;VALUE=URI;X-ADDRESS=Der Paritätische Bonn Lotharstraße 95a Bonn NRW 53115 Deutschland;X-APPLE-RADIUS=500;X-TITLE=Lotharstraße 95a:geo:7.1006272,50.7181613
END:VEVENT
BEGIN:VEVENT
DTSTART;TZID=Europe/Berlin:20251206T143000
DTEND;TZID=Europe/Berlin:20251206T170000
DTSTAMP:20260420T085157
CREATED:20250511T160326Z
LAST-MODIFIED:20250511T160554Z
UID:10000546-1765031400-1765040400@narkolepsie-netzwerk.de
SUMMARY:Treffen Regionalgruppe Rheinland
DESCRIPTION:Wir\, Sabine Müller und Norbert Schmidt\, leiten die Regionalgruppe Rheinland des Narkolepsie Netzwerkes. \n\n\n\nIn unseren Treffen steht der Austausch unter Euch Betroffenen und Angehörigen im Vordergrund. Ihr findet Verständnis\, Familie\, Antworten\, Informationen und Erfahrungen von Menschen in ähnlichen Situationen. \n\n\n\nHier seid Ihr nicht alleine mit Euren Sorgen\, Fragen\, Ängsten und Anliegen. \n\n\n\n\n\n\n\n\nVeranstalter\n\n\n\n	\n		Regionalgruppe Rheinland\n	\n			015678 – 255209 \n					rheinland@narkolepsie-netzwerk.de \n	\n\n\n\n\n\n\n\n\n\nVeranstaltungsort\n\n\n\nLotharstraße 9553115 Bonn
URL:https://narkolepsie-netzwerk.de/termin/rheinland-25-12/
LOCATION:Der Paritätische Bonn\, Lotharstraße 95a\, Bonn\, NRW\, 53115\, Deutschland
CATEGORIES:Gruppentreffen,Rheinland
ORGANIZER;CN="Regionalgruppe Rheinland":MAILTO:rheinland@narkolepsie-netzwerk.de
GEO:50.7181613;7.1006272
X-APPLE-STRUCTURED-LOCATION;VALUE=URI;X-ADDRESS=Der Paritätische Bonn Lotharstraße 95a Bonn NRW 53115 Deutschland;X-APPLE-RADIUS=500;X-TITLE=Lotharstraße 95a:geo:7.1006272,50.7181613
END:VEVENT
END:VCALENDAR