BEGIN:VCALENDAR
VERSION:2.0
PRODID:-//Narkolepsie-Netzwerk e.V. - ECPv6.15.18//NONSGML v1.0//EN
CALSCALE:GREGORIAN
METHOD:PUBLISH
X-ORIGINAL-URL:https://narkolepsie-netzwerk.de
X-WR-CALDESC:Veranstaltungen für Narkolepsie-Netzwerk e.V.
REFRESH-INTERVAL;VALUE=DURATION:PT1H
X-Robots-Tag:noindex
X-PUBLISHED-TTL:PT1H
BEGIN:VTIMEZONE
TZID:Europe/Berlin
BEGIN:DAYLIGHT
TZOFFSETFROM:+0100
TZOFFSETTO:+0200
TZNAME:CEST
DTSTART:20200329T010000
END:DAYLIGHT
BEGIN:STANDARD
TZOFFSETFROM:+0200
TZOFFSETTO:+0100
TZNAME:CET
DTSTART:20201025T010000
END:STANDARD
BEGIN:DAYLIGHT
TZOFFSETFROM:+0100
TZOFFSETTO:+0200
TZNAME:CEST
DTSTART:20210328T010000
END:DAYLIGHT
BEGIN:STANDARD
TZOFFSETFROM:+0200
TZOFFSETTO:+0100
TZNAME:CET
DTSTART:20211031T010000
END:STANDARD
BEGIN:DAYLIGHT
TZOFFSETFROM:+0100
TZOFFSETTO:+0200
TZNAME:CEST
DTSTART:20220327T010000
END:DAYLIGHT
BEGIN:STANDARD
TZOFFSETFROM:+0200
TZOFFSETTO:+0100
TZNAME:CET
DTSTART:20221030T010000
END:STANDARD
END:VTIMEZONE
BEGIN:VEVENT
DTSTART;TZID=Europe/Berlin:20211216T183000
DTEND;TZID=Europe/Berlin:20211216T203000
DTSTAMP:20260424T183340
CREATED:20210823T120122Z
LAST-MODIFIED:20210823T120123Z
UID:10000277-1639679400-1639686600@narkolepsie-netzwerk.de
SUMMARY:Treffen Regionalgruppe Westfalen
DESCRIPTION:Es geht endlich wieder los mit Präsenztreffen! \n\n\n\nNach langer Zeit wollen wir uns wieder „richtig“ treffen. Da die Raumkapazitäten bei Einhalten der Abstandsregeln jedoch etwas geringer sind\, möchte ich umso mehr um eine kurze Rückmeldung bitten\, wer kommen möchte. \n\n\n\nDas Treffen findet wie gewohnt am Donnerstag von 18:30 bis 20:30 Uhr statt. Getränke dürfen wir derzeit keine anbieten! \n\n\n\nZusagen oder Absagen bitte per Mail oder Telefon. \n\n\n\nVeranstalter\n\n\n\n\n\nVeranstaltungsort
URL:https://narkolepsie-netzwerk.de/termin/treffen-regionalgruppe-westfalen-21-12/
LOCATION:Gemeinschaftsraum der Initiative Gezeiten e.V.\, Bodelschwinghstr. 1-3\, Paderborn\, 33102\, Deutschland
CATEGORIES:Gruppentreffen,Westfalen
ORGANIZER;CN="Regionalgruppe Westfalen":MAILTO:westfalen@narkolepsie-netzwerk.de
GEO:51.7135027;8.7257793
X-APPLE-STRUCTURED-LOCATION;VALUE=URI;X-ADDRESS=Gemeinschaftsraum der Initiative Gezeiten e.V. Bodelschwinghstr. 1-3 Paderborn 33102 Deutschland;X-APPLE-RADIUS=500;X-TITLE=Bodelschwinghstr. 1-3:geo:8.7257793,51.7135027
END:VEVENT
BEGIN:VEVENT
DTSTART;TZID=Europe/Berlin:20211218T133000
DTEND;TZID=Europe/Berlin:20211218T160000
DTSTAMP:20260424T183340
CREATED:20210528T222252Z
LAST-MODIFIED:20211217T235032Z
UID:10000266-1639834200-1639843200@narkolepsie-netzwerk.de
SUMMARY:Treffen Regionalgruppe Württemberg- ABGESAGT!!!
DESCRIPTION:Leider muss der Termin abgesagt werden und wird in den Januar verlegt. Das Datum wird bekanntgegeben ! \n\n\n\nWir treffen uns hoffentlich erneut persönlich. Sollte die Pandemielage dies nicht zulassen\, wird die Veranstaltung online durchgeführt. Neue Teilnehmer melden sich bitte per Mail bei wuerttemberg@narkolepsie-netzwerk.de an\,
URL:https://narkolepsie-netzwerk.de/termin/treffen-regionalgruppe-wuerttemberg/2021-12-18/
LOCATION:Katholisches Gemeindezentrum Sankt Johannes Evangelist\, Lembergstraße 7\, Korntal\, 70825\, Deutschland
CATEGORIES:Gruppentreffen,Württemberg
GEO:48.82724;9.12599
X-APPLE-STRUCTURED-LOCATION;VALUE=URI;X-ADDRESS=Katholisches Gemeindezentrum Sankt Johannes Evangelist Lembergstraße 7 Korntal 70825 Deutschland;X-APPLE-RADIUS=500;X-TITLE=Lembergstraße 7:geo:9.12599,48.82724
END:VEVENT
BEGIN:VEVENT
DTSTART;TZID=Europe/Berlin:20211218T133000
DTEND;TZID=Europe/Berlin:20211218T160000
DTSTAMP:20260424T183340
CREATED:20220317T134131Z
LAST-MODIFIED:20220317T134134Z
UID:10000310-1639834200-1639843200@narkolepsie-netzwerk.de
SUMMARY:Treffen Regionalgruppe Württemberg- ONLINE
DESCRIPTION:Nachdem sich die Pandemie- Lage noch nicht gänzlich entspannt hat\, veranstalten wir auch diesmal wieder ein Online-Treffen.  \n\n\n\nDas Treffen ist jederzeit auch für neue Teilnehmer offen.  \n\n\n\nInteressierende melden sich bitte per Mail bei wuerttemberg@narkolepsie-netzwerk.de an.  \n\n\n\n \n\n\n\n \n\n\n\nVideo conference.
URL:https://narkolepsie-netzwerk.de/termin/treffen-regionalgruppe-wuerttemberg-online/2021-12-18/
LOCATION:Katholisches Gemeindezentrum Sankt Johannes Evangelist\, Lembergstraße 7\, Korntal\, 70825\, Deutschland
CATEGORIES:Gruppentreffen,Württemberg
GEO:48.82724;9.12599
X-APPLE-STRUCTURED-LOCATION;VALUE=URI;X-ADDRESS=Katholisches Gemeindezentrum Sankt Johannes Evangelist Lembergstraße 7 Korntal 70825 Deutschland;X-APPLE-RADIUS=500;X-TITLE=Lembergstraße 7:geo:9.12599,48.82724
END:VEVENT
END:VCALENDAR